BEGIN:VCALENDAR
VERSION:2.0
PRODID:-//ChamberMaster//Event Calendar 2.0//EN
METHOD:PUBLISH
X-PUBLISHED-TTL:P3D
REFRESH-INTERVAL:P3D
CALSCALE:GREGORIAN
BEGIN:VEVENT
DTSTART:20181108T233000Z
DTEND:20181109T030000Z
X-MICROSOFT-CDO-ALLDAYEVENT:FALSE
SUMMARY:Dance Band Night: Swing All Stars
DESCRIPTION:7:00 - 8:00 PM Refresh or learn some new swing dance steps from world champion swing dancer Yuval and his team. Four-time World Swing Dance Champion Yuval Hod has taught\, judged\, and performed in more than 26 countries. He is a repeat winner of every major U.S. swing dance title\, including American Lindy Hop Championship (8 times)\, U.S. Open (4 times)\, National Jitterbug (4 times)\, and Grand National Championship (3 times). He wants to make you love swing dance as much as he does.\n\n\n\n8:00 PM Swing All Stars\n\n\n\nFree\, with a suggested $5 donation at the door\n\n\n\nDance Band Night is presented with support from the City of Miami Beach\, Miami Dade County Department of Cultural Affairs\, State of FL Division of Cultural Affairs and Concrete Beach.
X-ALT-DESC;FMTTYPE=text/html:<span style="color:rgb(29\, 33\, 41)\; font-family:system-ui\,-apple-system\,system-ui\,.sfnstext-regular\,sans-serif\; font-size:14px">7:00 - 8:00 PM Refresh or learn some new swing dance steps from world champion swing dancer Yuval and his team. Four-time World Swing Dance Champion Yuval Hod has taught\, judged\, and performed in more than 26 countries. He is a repeat winner of every major U.S. swing dance title\, including American Lindy Hop Championship (8 times)\, U.S. Open (4 times)\, National Jitterbug (4 times)\, and Grand National Championship (3 times). He wants to make you love swing dance as much as he does.</span><br />\n<br />\n<span style="color:rgb(29\, 33\, 41)\; font-family:system-ui\,-apple-system\,system-ui\,.sfnstext-regular\,sans-serif\; font-size:14px">8:00 PM Swing All Stars</span><br />\n<br />\n<span style="color:rgb(29\, 33\, 41)\; font-family:system-ui\,-apple-system\,system-ui\,.sfnstext-regular\,sans-serif\; font-size:14px">Free\, with a suggested $5 donation at the door</span><br />\n<br />\n<span style="color:rgb(29\, 33\, 41)\; font-family:system-ui\,-apple-system\,system-ui\,.sfnstext-regular\,sans-serif\; font-size:14px">Dance Band Night is presented with support from the City of Miami Beach\, Miami Dade County Department of Cultural Affairs\, State of FL Division of Cultural Affairs and Concrete Beach.</span>
LOCATION:North Beach Bandshell
UID:e.166.38240
SEQUENCE:3
DTSTAMP:20260422T015005Z
URL:https://business.miamibeachchamber.com/events/details/dance-band-night-swing-all-stars-38240
END:VEVENT

END:VCALENDAR
