BEGIN:VCALENDAR
VERSION:2.0
PRODID:-//ChamberMaster//Event Calendar 2.0//EN
METHOD:PUBLISH
X-PUBLISHED-TTL:P3D
REFRESH-INTERVAL:P3D
CALSCALE:GREGORIAN
BEGIN:VEVENT
DTSTART:20181109T000000Z
DTEND:20181109T030000Z
X-MICROSOFT-CDO-ALLDAYEVENT:FALSE
SUMMARY:Cure By Design Miami
DESCRIPTION:The American Cancer Society has partnered with Brickell City Centre to host on November 8\, 2018 the inaugural Cure by Design Survivor Fashion Show presented by Sylvester Comprehensive Cancer Center. Cure by Design Miami is an event in which the corporate community joins forces with local retailers from Brickell City Centre and cancer survivors to benefit the American Cancer Society's mission to save lives\, celebrate lives and lead the fight for a world without cancer.  The highlight of the evening is a program that celebrates local cancer survivors of all ages and of all cancer types\, who share their inspirational journey and rock the runway!
X-ALT-DESC;FMTTYPE=text/html:<span style="font-size:12pt"><span style="font-family:source sans pro light\,sans-serif">The American Cancer Society has partnered with Brickell City Centre to host on November 8\, 2018 the inaugural Cure by Design Survivor Fashion Show presented by Sylvester Comprehensive Cancer Center. Cure by Design Miami is </span></span><span style="font-size:12pt"><span style="font-family:source sans pro light\,sans-serif">an event in which the corporate community joins forces with local retailers from Brickell City Centre and cancer survivors to benefit the American Cancer Society&rsquo\;s mission to save lives\, celebrate lives and lead the fight for a world without cancer.&nbsp\; The highlight of the evening is a program that celebrates local cancer survivors of all ages and of all cancer types\, who share their inspirational journey and rock the&nbsp\;runway!</span></span><span style="font-size:12pt"><span style="font-family:source sans pro light\,sans-serif">&nbsp\;&nbsp\;</span></span>
LOCATION:
UID:e.166.37610
SEQUENCE:3
DTSTAMP:20260422T001350Z
URL:https://business.miamibeachchamber.com/events/details/cure-by-design-miami-37610
END:VEVENT

END:VCALENDAR
