BEGIN:VCALENDAR
VERSION:2.0
PRODID:-//ChamberMaster//Event Calendar 2.0//EN
METHOD:PUBLISH
X-PUBLISHED-TTL:P3D
REFRESH-INTERVAL:P3D
CALSCALE:GREGORIAN
BEGIN:VEVENT
DTSTART:20180215T200000Z
DTEND:20180216T000000Z
X-MICROSOFT-CDO-ALLDAYEVENT:FALSE
SUMMARY:Complimentary Auricular Acupuncture ~ Year of the Dog Celebration
DESCRIPTION:Receive complimentary auricular acupuncture to bring in & celebrate the Chinese New Year. It's the Year of the Dog beginning on Feb 16th!\n\n\n\n5 sterile needles will be placed in each external ear area. These points help with stress relief and detoxing of the organs and is a very relaxing treatment. Treat yourself to bring in this year's new energies\, quite a relief from the last last 2 years!\n\n\n\n"So what can we expect from the upcoming year? The Dog is an ethical and idealistic sign\, and the year that bears its name will also bring increased social awareness and interest in society's less powerful members. Any tendencies to take\, take\, take will be replaced by a widespread sentiment of generosity and selflessness. In general\, we will all be imbued with the Dog's keen sense of right and wrong."\n\n(source: http://astrologyclub.org/chinese-horoscope/2018-year-dog/)\n\n\n\nOur recent full moon eclipse also brought in the energy of service to community and humanity\, to the greater good. Let's nurture ourselves today and then bring this year on!\n\n\n\nPlease RSVP with time expected (please give yourself time to relax for 30 min) ... Donations gratefully accepted
X-ALT-DESC;FMTTYPE=text/html:<span style="background-color:rgb(255\, 255\, 255)\; color:rgb(75\, 79\, 86)\; font-family:helvetica neue\,helvetica\,arial\,sans-serif\; font-size:14px">Receive complimentary auricular acupuncture to bring in &amp\; celebrate the Chinese New Year. It&#39\;s the Year of the Dog beginning on Feb 16th!</span><br />\n<br />\n<span style="background-color:rgb(255\, 255\, 255)\; color:rgb(75\, 79\, 86)\; font-family:helvetica neue\,helvetica\,arial\,sans-serif\; font-size:14px">5 sterile needles will be placed in each external ear area. These points help with stress relief and detoxing of the organs and is a very relaxing treatment. Treat yourself to bring in this year&#39\;s new energies\, quite a relief from the last last 2 years!</span><br />\n<br />\n<span style="background-color:rgb(255\, 255\, 255)\; color:rgb(75\, 79\, 86)\; font-family:helvetica neue\,helvetica\,arial\,sans-serif\; font-size:14px">&quot\;So what can we expect from the upcoming year? The Dog is an ethical and idealistic sign\, and the year that bears its name will also bring increased social awareness and interest in society&rsquo\;s less powerful members. Any tendencies to take\, take\, take will be replaced by a widespread sentiment of generosity and selflessness. In general\, we will all be imbued with the Dog&rsquo\;s keen sense of right and wrong.&quot\;</span><br />\n<span style="background-color:rgb(255\, 255\, 255)\; color:rgb(75\, 79\, 86)\; font-family:helvetica neue\,helvetica\,arial\,sans-serif\; font-size:14px">(source:&nbsp\;</span><a href="https://l.facebook.com/l.php?u=http%3A%2F%2Fastrologyclub.org%2Fchinese-horoscope%2F2018-year-dog%2F&amp\;h=ATMPtsJQspGIS9948AKNPUcXCHg262GM3vN8K9-gWOtwYNEF5G4XMhMlEEJ0l4C5INr5pvGWV2GLgklv9C56d7l49XypSF_BG5h0TBNruqab1o1KJgwzSusrvRoUqUpNJkegItwoqJQEzxQJHj7oSgP8DrNNUikOsPSThXB_w5kA4IHc2ho" rel="nofollow noopener" style="color: rgb(54\, 88\, 153)\; cursor: pointer\; text-decoration: none\; font-family: &quot\;Helvetica Neue&quot\;\, Helvetica\, Arial\, sans-serif\; font-size: 14px\; font-style: normal\; font-variant-ligatures: normal\; font-variant-caps: normal\; font-weight: 400\; letter-spacing: normal\; orphans: 2\; text-align: start\; text-indent: 0px\; text-transform: none\; white-space: normal\; widows: 2\; word-spacing: 0px\; -webkit-text-stroke-width: 0px\; background-color: rgb(255\, 255\, 255)\;" target="_blank"><span style="font-family:inherit">http://astrologyclub.org/</span><span style="font-family:inherit">chinese-horoscope/</span>2018-year-dog/</a><span style="background-color:rgb(255\, 255\, 255)\; color:rgb(75\, 79\, 86)\; font-family:helvetica neue\,helvetica\,arial\,sans-serif\; font-size:14px">)</span><br />\n<br />\n<span style="background-color:rgb(255\, 255\, 255)\; color:rgb(75\, 79\, 86)\; font-family:helvetica neue\,helvetica\,arial\,sans-serif\; font-size:14px">Our recent full moon eclipse also brought in the energy of service to community and humanity\, to the greater good. Let&#39\;s nurture ourselves today and then bring this year on!</span><br />\n<br />\n<span style="background-color:rgb(255\, 255\, 255)\; color:rgb(75\, 79\, 86)\; font-family:helvetica neue\,helvetica\,arial\,sans-serif\; font-size:14px">Please RSVP with time expected (please give yourself time to relax for 30 min) ... Donations gratefully accepted</span>
LOCATION:Root Acupuncture 550 11th St\, Suite 105 Miami Beach\, FL 33139
UID:e.166.31117
SEQUENCE:3
DTSTAMP:20260420T092123Z
URL:https://business.miamibeachchamber.com/events/details/complimentary-auricular-acupuncture-year-of-the-dog-celebration-31117
END:VEVENT

END:VCALENDAR
