BEGIN:VCALENDAR
VERSION:2.0
PRODID:-//ChamberMaster//Event Calendar 2.0//EN
METHOD:PUBLISH
X-PUBLISHED-TTL:P3D
REFRESH-INTERVAL:P3D
CALSCALE:GREGORIAN
BEGIN:VEVENT
DTSTART:20181230T140000Z
DTEND:20181230T210000Z
X-MICROSOFT-CDO-ALLDAYEVENT:FALSE
SUMMARY:Collins Park Marketplace
DESCRIPTION:Located in Collins Park\, in front of the Bass Museum of Art\, this marketplace includes a mix of organic\, local and conventional produce\, freshly baked bread and pastries\, prepared foods and local\, artisanal products such as market baskets\, handmade candles and skincare products. Tables in the shaded grass area of park are provided to enjoy breakfast or lunch at.
X-ALT-DESC;FMTTYPE=text/html:Located in Collins Park\, in front of the Bass Museum of Art\, this marketplace includes a mix of organic\, local and conventional produce\, freshly baked bread and pastries\, prepared foods and local\, artisanal products such as market baskets\, handmade candles and skincare products. Tables in the shaded grass area of park are provided to enjoy breakfast or lunch at.
LOCATION:Collins Park\, 2100 Collins Ave
UID:e.166.11954
SEQUENCE:3
DTSTAMP:20260422T001759Z
URL:https://business.miamibeachchamber.com/events/details/collins-park-marketplace-12-30-2018-11954
END:VEVENT

END:VCALENDAR
