BEGIN:VCALENDAR
VERSION:2.0
PRODID:-//ChamberMaster//Event Calendar 2.0//EN
METHOD:PUBLISH
X-PUBLISHED-TTL:P3D
REFRESH-INTERVAL:P3D
CALSCALE:GREGORIAN
BEGIN:VEVENT
DTSTART:20181109T140000Z
DTEND:20181109T150000Z
X-MICROSOFT-CDO-ALLDAYEVENT:FALSE
SUMMARY:Coffee with the Chamber - South Pointe Tavern Hosted by Norma Ross
DESCRIPTION:Coffee\, conversation and networking with fellow members and Miami Beach Chamber of Commerce leadership.\n\n\n\nCome meet fellow members for breakfast on November 9th at South Pointe Tavern. The breakfast is sponsored by Norma Ross and Consulting for Success. Eat Local!\n\n \nTucked away in the chic neighborhood of South of Fifth\, South Pointe Tavern has quickly become Miami's Favorite Local Bar. Featuring the largest selection of spirits in Miami Beach\, the concept is driven by seasonally curated cocktails\, executed to perfection and served in a cool\, comfortable atmosphere. \n\n\n\n\n\nThe bar boasts of 200+ Whiskeys and 80+ Tequilas. Their bartenders serve up crafty variations of classic cocktails like Old Fashioned\, Negronis\, Whiskey Bucks\, Margaritas and Highballs.\n\n \n\nThe Tavern's menu offers a selection of artisanal dishes\, including ceviche\, crudos\, flatbreads\, seasonal salads\, sandwiches and local charcuterie and cheeses. Their small plates are the perfect starter to any meal or a great late-night snack.\n\n\n\nOpened in 2016 by neighborhood friends\, the space was designed to feel like home. With French bistro-style seating and lounge\, nautical-inspired lighting and exposed brick\, South Pointe Tavern has earned the title of "The Cheers of South of Fifth".\n\n \n\nThose seeking a memorable event location look no further. South Pointe Tavern's newly expanded lounge area features plush leather couches and the relaxed vibe your guests are sure to love. The walls are adorned with hanging guitars and shelves of classic books about music\, art\, and design. With 8 flat screen TV's throughout and a highly attentive staff\, South Pointe Tavern is sure to set the stage for an unforgettable evening.\n\n\n\n \n\nSouth Pointe Tavern is open 7 days a week. Breakfast is served from 8am until noon. The Tavern menu is served from 12PM   midnight. Come and enjoy Happy Hour\, Monday-Friday from 5PM-7PM\, and offering   OFF on all House Wines\, Beer and House Cocktails.\n\n\n\nPlease join us for breakfast Friday\, November 9th
X-ALT-DESC;FMTTYPE=text/html:<div>\n<p style="margin:0in\;margin-bottom:.0001pt\;vertical-align:baseline"><span style="font-size: 18px\;">Coffee\,&nbsp\;conversation and networking with fellow members and Miami Beach Chamber of Commerce leadership.</span></p>\n</div>\n<br />\n<span style="font-size:18px\;">Come meet fellow members for breakfast on November 9th at South Pointe Tavern. The breakfast is sponsored by Norma Ross and Consulting for Success. Eat Local!</span><br />\n&nbsp\;\n<p style="margin:0in\;margin-bottom:.0001pt\;vertical-align:baseline"><span style="font-size:18px\;"><span style="font-family:arial\;">Tucked away in the chic neighborhood of South of Fifth\, South Pointe Tavern has quickly become Miami&rsquo\;s Favorite Local Bar. Featuring the largest selection of spirits in Miami Beach\, the concept is driven by seasonally curated cocktails\, executed to perfection and served in a cool\, comfortable atmosphere.&nbsp\;</span></span><br />\n<br />\n<span style="font-family: Arial\, sans-serif\;"><o:p></o:p></span></p>\n\n<p style="margin:0in\;margin-bottom:.0001pt\;vertical-align:baseline"><span style="font-size:18px\;"><span style="font-family:arial\;">The bar boasts of 200+ Whiskeys and 80+ Tequilas. Their bartenders serve up crafty variations of classic cocktails like Old Fashioned\, Negronis\, Whiskey Bucks\, Margaritas and Highballs.</span></span><br />\n&nbsp\;</p>\n\n<p style="margin:0in\;margin-bottom:.0001pt\;vertical-align:baseline"><span style="font-family:&quot\;Arial&quot\;\,sans-serif"><span style="font-size:18px\;">The Tavern&rsquo\;s menu offers a selection of artisanal dishes\, including ceviche\, crudos\, flatbreads\, seasonal salads\, sandwiches and local charcuterie and cheeses. Their small plates are the perfect starter to any meal or a great late-night snack.<br />\n<br />\nO</span></span><span style="font-size:18px\;"><span style="font-family: Arial\, sans-serif\;">pened in 2016 by neighborhood friends\, the space was designed to feel like home. With French bistro-style seating and lounge\, nautical-inspired lighting and exposed brick\, South Pointe Tavern has earned the title of &ldquo\;The Cheers of South of Fifth&rdquo\;.</span></span><br />\n&nbsp\;</p>\n\n<p style="margin:0in\;margin-bottom:.0001pt\;vertical-align:baseline"><span style="font-size:18px\;"><span style="font-family:&quot\;Arial&quot\;\,sans-serif">Those seeking a memorable event location look no further. South Pointe Tavern&rsquo\;s newly expanded lounge area features plush leather couches and the relaxed vibe your guests are sure to love. The walls are adorned with hanging guitars and shelves of classic books about music\, art\, and design. With 8 flat screen TV&rsquo\;s throughout and a highly attentive staff\, South Pointe Tavern is sure to set the stage for an unforgettable evening.</span></span><br />\n<br />\n&nbsp\;</p>\n\n<p style="margin:0in\;margin-bottom:.0001pt\;vertical-align:baseline"><span style="font-size:18px\;"><span style="font-family:&quot\;Arial&quot\;\,sans-serif">South Pointe Tavern is open 7 days a week. Breakfast is served from 8am until noon. The Tavern menu is served from 12PM &ndash\; midnight. Come and enjoy Happy Hour\, Monday-Friday from 5PM-7PM\, and offering &frac12\; OFF on all House Wines\, Beer and House Cocktails.<br />\n<br />\nPlease join us for breakfast Friday\, November 9th</span></span></p>\n\n<p style="margin:0in\;margin-bottom:.0001pt\;vertical-align:baseline\;box-sizing: border-box\;\noutline: 0px\;background:rgba(68\, 68\, 68\, 0.87)\;text-size-adjust: 100%\;\nfont-variant-ligatures: normal\;font-variant-caps: normal\;orphans: 2\;widows: 2\;\n-webkit-text-stroke-width: 0px\;text-decoration-style: initial\;text-decoration-color: initial\;\nword-spacing:0px"><span style="font-family:&quot\;Arial&quot\;\,sans-serif"><o:p></o:p></span></p>\n\n<p style="margin:0in\;margin-bottom:.0001pt\;vertical-align:baseline"><br />\n<br />\n<br />\n&nbsp\;</p>\n\n<p style="margin:0in\;margin-bottom:.0001pt\;vertical-align:baseline\;box-sizing: border-box\;\noutline: 0px\;background:rgba(68\, 68\, 68\, 0.87)\;text-size-adjust: 100%\;\nfont-variant-ligatures: normal\;font-variant-caps: normal\;orphans: 2\;widows: 2\;\n-webkit-text-stroke-width: 0px\;text-decoration-style: initial\;text-decoration-color: initial\;\nword-spacing:0px"><span style="font-family:&quot\;Arial&quot\;\,sans-serif"><o:p></o:p></span></p>\n\n<p class="MsoNormal" style="margin: 0in 0in 0pt\;"><br />\n<br />\n&nbsp\;</p>\n
LOCATION:South Pointe Tavern 40 South Pointe Drive Miami Beach FL 33139
UID:e.166.26222
SEQUENCE:3
DTSTAMP:20260422T001803Z
URL:https://business.miamibeachchamber.com/events/details/coffee-with-the-chamber-south-pointe-tavern-hosted-by-norma-ross-26222
END:VEVENT

END:VCALENDAR
