BEGIN:VCALENDAR
VERSION:2.0
PRODID:-//ChamberMaster//Event Calendar 2.0//EN
METHOD:PUBLISH
X-PUBLISHED-TTL:P3D
REFRESH-INTERVAL:P3D
CALSCALE:GREGORIAN
BEGIN:VEVENT
DTSTART:20191025T130000Z
DTEND:20191025T140000Z
X-MICROSOFT-CDO-ALLDAYEVENT:FALSE
SUMMARY:COFFEE WITH THE CHAMBER - OIS Group
DESCRIPTION:COFFEE WITH THE CHAMBER\n\n\n\nHosted by OIS Group\n\n\n\nFriday\, October 25\, 2019\n\n9:00 AM -10:00 AM\n\n\n\nCoffee\, conversation and networking with fellow members and chamber leadership.\n\n \nThe OIS Group is a Consulting Firm and PEO Brokerage specializing in Human Resources\, Employee Benefits and Risk Management. With more than 20 years of experience in the industry\, we have access to the entire PEO marketplace\, without being linked or obligated to any one solution.  We take a holistic approach based on your company's specific needs and provide the right opportunity for your business to thrive\, while taking out the stress and confusion to save you time and money.
X-ALT-DESC;FMTTYPE=text/html:<div>\n<div>\n<div style="text-align: center\;"><span style="color:#000080\;"><span style="font-family: arial\;"><strong style="font-size: 16px\;">COFFEE WITH THE CHAMBER</strong><br />\n<br />\n<span style="font-size: 18px\;"><b>Hosted by OIS Group</b></span><br />\n<br />\n<span style="font-size: 18px\;"><strong>Friday\, October 25\, 2019</strong></span><br />\n<span style="font-size: 16px\;">9:00 AM -10:00 AM</span><br />\n<br />\n<span style="font-size: 16px\;">Coffee\, conversation and networking with fellow members and chamber leadership.</span></span></span><br />\n&nbsp\;\n<h1 style="box-sizing: border-box\; margin: 0px\; padding: 0px 0px 10px\; border: 0px\; outline: 0px\; background-image: initial\; background-position: 0px 0px\; background-size: initial\; background-repeat: initial\; background-attachment: initial\; background-origin: initial\; background-clip: initial\; font-size: 31px\; vertical-align: baseline\; text-size-adjust: 100%\; line-height: 1em\; font-family: Anton\, sans-serif\; letter-spacing: 2px\; color: rgb(73\, 197\, 177) !important\;"><span style="color:#000080\;"><span style="font-size:12px\;"><span style="font-family:arial\;"><span style="border:none windowtext 1.0pt\;padding:0in\;">The OIS Group is a&nbsp\;<strong>Consulting Firm and</strong></span><strong><span style="border:none windowtext 1.0pt\;padding:0in\;">&nbsp\;PEO Brokerage</span></strong><span style="border:none windowtext 1.0pt\;padding:0in\;">&nbsp\;specializing in Human Resources\, Employee Benefits and Risk Management. With more than 20 years of experience in the industry\, we</span><span style="background-image:initial\;background-position:initial\;background-size:initial\;background-repeat:initial\;background-origin:initial\;background-clip:initial\;">&nbsp\;have access to the entire PEO marketplace\, without being linked or obligated to any one solution.&nbsp\; We take a holistic approach based on your company&rsquo\;s specific needs and provide the right opportunity for your business to thrive\, while taking out the stress and confusion to save you time and money.</span></span></span></span><br />\n&nbsp\;</h1>\n</div>\n</div>\n</div>\n\n<div><span style="font-size: 14px"><span style="font-size: 16px"><span style="font-family: arial"><span style="color: #000080"><span _fck_bookmark="1" style="display: none">&nbsp\;</span></span></span></span></span></div>\n
LOCATION:Bella Cuba 1659 Washington Ave\, Miami Beach
UID:e.166.43905
SEQUENCE:3
DTSTAMP:20260423T103207Z
URL:https://business.miamibeachchamber.com/events/details/coffee-with-the-chamber-ois-group-43905
END:VEVENT

END:VCALENDAR
