BEGIN:VCALENDAR
VERSION:2.0
PRODID:-//ChamberMaster//Event Calendar 2.0//EN
METHOD:PUBLISH
X-PUBLISHED-TTL:P3D
REFRESH-INTERVAL:P3D
CALSCALE:GREGORIAN
BEGIN:VEVENT
DTSTART:20181221T140000Z
DTEND:20181221T150000Z
X-MICROSOFT-CDO-ALLDAYEVENT:FALSE
SUMMARY:Coffee With The Chamber - Miami Beach Smiles
DESCRIPTION:Coffee\, conversation and networking with fellow members and chamber leadership.\nThey are committed to providing quality healthcare to families located in the Miami Beach area and treat patients of all ages. They provide comprehensive solutions for their patients' oral health needs. Believing in the importance of listening to their patients\, they take the time to truly understand each person's needs\, goals\, and lifestyle. By understanding their patients' objectives they can provide solutions that will improve their health while transforming their smile into something bright and beautiful.\n\nMiami Beach Smiles is located at 1688 Meridian Ave #414\, Miami Beach\,  FL. They are currently accepting new patients\, and you can schedule an appointment by calling 305-534-2526.
X-ALT-DESC;FMTTYPE=text/html:<div><span style="font-size:18px\;"><span style="font-family: arial"><strong>Coffee\, conversation and networking with fellow members and chamber leadership.</strong></span></span>\n<p style="box-sizing: border-box\; margin: 0px 0px 10px\; padding: 10px 0px\; color: rgb(51\, 51\, 51)\; font-family: &quot\;Open Sans&quot\;\, sans-serif\; font-size: 14px\; text-align: center\; background-color: rgb(255\, 255\, 255)\;"><span style="font-size:18px\;"><span style="font-family:arial\;"><strong>They are committed to providing quality healthcare to families located in the Miami Beach area and treat patients of all ages. They provide comprehensive solutions for their patients&#39\; oral health needs. Believing in the importance of listening to their patients\, they take the time to truly understand each person&#39\;s needs\, goals\, and lifestyle. By understanding their patients&#39\; objectives they&nbsp\;can provide solutions that will improve their health while transforming their smile into something bright and beautiful.</strong></span></span></p>\n\n<p style="box-sizing: border-box\; margin: 0px 0px 10px\; padding: 10px 0px\; color: rgb(51\, 51\, 51)\; font-family: &quot\;Open Sans&quot\;\, sans-serif\; font-size: 14px\; text-align: center\; background-color: rgb(255\, 255\, 255)\;"><span style="font-size:18px\;"><span style="font-family:arial\;"><strong>Miami Beach Smiles is located at 1688 Meridian Ave #414\,&nbsp\;Miami Beach\, &nbsp\;FL. They&nbsp\;are currently accepting new patients\, and you can schedule an appointment by calling 305-534-2526.</strong></span></span></p>\n<br />\n<strong><span style="font-size:18px\;">&nbsp\;</span></strong></div>\n\n<div><span style="font-size: 14px"><span style="font-size: 16px"><span style="font-family: arial"><span style="color: #000080"><span _fck_bookmark="1" style="display: none">&nbsp\;</span></span></span></span></span></div>\n
LOCATION:Miami Beach Smiles 1688 Meridian Avenue Suite 414 Miami Beach FL 33139
UID:e.166.39312
SEQUENCE:3
DTSTAMP:20260421T223944Z
URL:https://business.miamibeachchamber.com/events/details/coffee-with-the-chamber-miami-beach-smiles-39312
END:VEVENT

END:VCALENDAR
