BEGIN:VCALENDAR
VERSION:2.0
PRODID:-//ChamberMaster//Event Calendar 2.0//EN
METHOD:PUBLISH
X-PUBLISHED-TTL:P3D
REFRESH-INTERVAL:P3D
CALSCALE:GREGORIAN
BEGIN:VEVENT
DTSTART:20181207T140000Z
DTEND:20181207T150000Z
X-MICROSOFT-CDO-ALLDAYEVENT:FALSE
SUMMARY:Coffee With The Chamber - Edward Jones Investments
DESCRIPTION:Coffee\, conversation and networking with fellow members and chamber leadership.
X-ALT-DESC;FMTTYPE=text/html:<div><span style="font-size:18px\;"><span style="font-family: arial"><strong>Coffee\, conversation and networking with fellow members and chamber leadership.</strong></span></span></div>\n\n<div><span style="font-size: 14px"><span style="font-size: 16px"><span style="font-family: arial"><span style="color: #000080"><span _fck_bookmark="1" style="display: none">&nbsp\;</span></span></span></span></span></div>\n
LOCATION:Edward Jones Investments presents at The Strand Restaurant Carillon Miami Wellness Resort 6801 Collins Avenue Miami Beach FL 33141
UID:e.166.38483
SEQUENCE:3
DTSTAMP:20260422T001848Z
URL:https://business.miamibeachchamber.com/events/details/coffee-with-the-chamber-edward-jones-investments-38483
END:VEVENT

END:VCALENDAR
