BEGIN:VCALENDAR
VERSION:2.0
PRODID:-//ChamberMaster//Event Calendar 2.0//EN
METHOD:PUBLISH
X-PUBLISHED-TTL:P3D
REFRESH-INTERVAL:P3D
CALSCALE:GREGORIAN
BEGIN:VEVENT
DTSTART:20181130T140000Z
DTEND:20181130T150000Z
X-MICROSOFT-CDO-ALLDAYEVENT:FALSE
SUMMARY:Coffee With The Chamber - DOOB 3D Technology Washington Avenue
DESCRIPTION:Coffee\, conversation and networking with fellow members and chamber leadership.  \nDoob Miami is a 3D technology company offering products that include 3D printed replicas\, digital doobs\, avatars for Virtual Reality and more. "Technology and art can be merged to create something that is brand new and exciting. Their motto is "live life in 3D\," which is why they love being a part of someone's wedding\, baby announcement\, graduation\, and other milestones of life. Celebrating all the big and small moments can be one of the best experiences to have at Doob.
X-ALT-DESC;FMTTYPE=text/html:<div><span style="font-size:18px\;"><span style="font-family: arial"><strong>Coffee\, conversation and networking with fellow members and chamber leadership.&nbsp\;&nbsp\;</strong></span></span>\n<p><strong><span style="font-size:18px\;"><span style="font-family:arial\;">Doob Miami is a 3D technology company offering products that include 3D printed replicas\, digital doobs\, avatars for Virtual Reality and more. &ldquo\;Technology and art can be merged to create something that is brand new and exciting. Their motto is &quot\;live life in 3D\,&quot\; which is why they love being a part of someone&rsquo\;s wedding\, baby announcement\, graduation\, and other milestones of life. Celebrating all the big and small moments can be one of the best experiences to have at Doob.</span></span></strong><o:p></o:p></p>\n</div>\n\n<div><span style="font-size: 14px"><span style="font-size: 16px"><span style="font-family: arial"><span style="color: #000080"><span _fck_bookmark="1" style="display: none">&nbsp\;</span></span></span></span></span></div>\n
LOCATION:Doob 3D Technology Miami 753 Washington Avenue Miami Beach\, FL 33139
UID:e.166.39308
SEQUENCE:3
DTSTAMP:20260422T001658Z
URL:https://business.miamibeachchamber.com/events/details/coffee-with-the-chamber-doob-3d-technology-washington-avenue-39308
END:VEVENT

END:VCALENDAR
