BEGIN:VCALENDAR
VERSION:2.0
PRODID:-//ChamberMaster//Event Calendar 2.0//EN
METHOD:PUBLISH
X-PUBLISHED-TTL:P3D
REFRESH-INTERVAL:P3D
CALSCALE:GREGORIAN
BEGIN:VEVENT
DTSTART:20190920T120000Z
DTEND:20190920T140000Z
X-MICROSOFT-CDO-ALLDAYEVENT:FALSE
SUMMARY:City National Bank Pillar Breakfast
DESCRIPTION:FBI Stories & Cyber Security\n\n\n\nsponsored by City National Bank\n\n\n\n\n\nThe Miami Beach Chamber Pillar Board invites you to the annual Pillar Breakfast. Mix and mingle with your fellow industry insiders and enjoy an exclusive presentation by:\n\n\n\n\n\nFBI Special Agent George Piro\n\nFBI Special agent in charge of the Miami field\n\n\n\nMr. Piro has held a variety of investigative\, operational\, and managerial positions within the FBI. He entered on duty in May 1999 and was first assigned as a special agent in the Phoenix Field Office\, investigating international terrorism. In 2003\, Mr. Piro was promoted to the Counterterrorism Division at FBI Headquarters\, where he served as the team leader and interrogator responsible for the interrogation of Saddam Hussein. Mr. Piro spent seven months leading the interrogations of Hussein and other key figures within the former Iraqi regime.\n\n \n\n\n\n\nFREE HEALTH SCREENINGS PROVIDED BY\n\n\n\nBAPTIST HEALTH \n\n \n\n\n\n\nParking\n\nDiscounted Valet available for $10. We encourage you to rideshare.
X-ALT-DESC;FMTTYPE=text/html:<p><span style="font-size:22px\;"><b>FBI Stories &amp\; Cyber Security</b></span><br />\n<br />\nsponsored by <a href="https://www.citynationalcm.com/home/home"><em>City National Bank</em></a><br />\n<br />\n<br />\n<span style="font-size: 12px">The Miami Beach Chamber Pillar Board invites you to the annual Pillar Breakfast. Mix and mingle with your fellow industry insiders and enjoy an exclusive presentation by:<br />\n<br />\n<br />\n<span style="font-size:18px\;">FBI Special Agent George Piro</span><br />\n<em>FBI Special agent in charge of the Miami field</em></span><br />\n<br />\nMr. Piro has held a variety of investigative\, operational\, and managerial positions within the FBI. He entered on duty in May 1999 and was first assigned as a special agent in the Phoenix Field Office\, investigating international terrorism. In 2003\, Mr. Piro was promoted to the Counterterrorism Division at FBI Headquarters\, where he served as the team leader and interrogator responsible for the interrogation of Saddam Hussein. Mr. Piro spent seven months leading the interrogations of Hussein and other key figures within the former Iraqi regime.<br />\n&nbsp\;</p>\n\n<hr />\n<p><br />\nFREE HEALTH SCREENINGS PROVIDED BY<br />\n<br />\n<a href="https://baptisthealth.net/en/pages/home.aspx"><strong><span style="font-size:20px\;">BAPTIST HEALTH&nbsp\;</span></strong></a><br />\n&nbsp\;</p>\n\n<hr />\n<p><br />\n<u><strong>Parking</strong></u><br />\nDiscounted Valet available for $10. We encourage you to rideshare.</p>\n
LOCATION:Cadillac Hotel & Beach Club\, Autograph Collection 3925 Collins Ave\, Miami Beach\, FL 33140
UID:e.166.43277
SEQUENCE:3
DTSTAMP:20260423T085238Z
URL:https://business.miamibeachchamber.com/events/details/city-national-bank-pillar-breakfast-43277
END:VEVENT

END:VCALENDAR
