BEGIN:VCALENDAR
VERSION:2.0
PRODID:-//ChamberMaster//Event Calendar 2.0//EN
METHOD:PUBLISH
X-PUBLISHED-TTL:P3D
REFRESH-INTERVAL:P3D
CALSCALE:GREGORIAN
BEGIN:VEVENT
DTSTART:20181104T150000Z
DTEND:20181104T190000Z
X-MICROSOFT-CDO-ALLDAYEVENT:FALSE
SUMMARY:Children's Workshop: Create Your Own Magical Garden
DESCRIPTION:CHILDREN'S WORKSHOP: CREATE YOUR OWN MAGICAL GARDEN\n\n\n\nPlant the Future and Miami Beach Botanical Garden invite you to celebrate the winners of the Name the Unicorn Contest and create your own magical garden.\n\n\n\nChildren of all ages will paint and plant their own magical garden while learning about plants at the Miami Beach Botanical Garden. $15 per child before November 1st $18 after.
X-ALT-DESC;FMTTYPE=text/html:<div>\n<div><span style="font-family:inherit">CHILDREN&rsquo\;S WORKSHOP: CREATE YOUR OWN MAGICAL GARDEN</span></div>\n</div>\n\n<div>\n<div><span style="font-family:inherit">Plant the Future and Miami Beach Botanical Garden invite you to celebrate the winners of the Name the Unicorn Contest and create your own magical garden.</span></div>\n</div>\n\n<div>\n<div><span style="font-family:inherit">Children of all ages will paint and plant their own magical garden while learning about plants at the Miami Beach Botanical Garden. $15 per child before November 1st $18 after.</span></div>\n</div>\n
LOCATION:Miami Beach Botanical Garden 2000 Convention Center Dr. Miami Beach\, FL 33139
UID:e.166.39309
SEQUENCE:3
DTSTAMP:20260422T001535Z
URL:https://business.miamibeachchamber.com/events/details/children-s-workshop-create-your-own-magical-garden-39309
END:VEVENT

END:VCALENDAR
