BEGIN:VCALENDAR
VERSION:2.0
PRODID:-//ChamberMaster//Event Calendar 2.0//EN
METHOD:PUBLISH
X-PUBLISHED-TTL:P3D
REFRESH-INTERVAL:P3D
CALSCALE:GREGORIAN
BEGIN:VEVENT
DTSTART:20200110T140000Z
DTEND:20200110T150000Z
X-MICROSOFT-CDO-ALLDAYEVENT:FALSE
SUMMARY:CHAMPAGNE WITH THE CHAMBER - Aurora Boutique
DESCRIPTION:CHAMPAGNE WITH THE CHAMBER\n\n\n\nHosted by\n\n\n\nAurora Boutique\n\n\n\n\n\nFriday\, January 10\, 2020\n\n\n\n9:00 AM -10:00 AM\n\n\n\nChampagne\, conversation and networking with fellow members and chamber leadership.\n\n\n\n \n \nAbout Aurora Boutique\n\n\n\nAn exclusive and unique boutique where you can shop as if you were in Brazil. The clothes fit everyone perfectly and the prices are extremely fair. No reason to wait to go to Brazil to have a little taste of their style.\n\n\n\nThe owner is a Brazilian mom that has been living in the US for many years but never lost her roots. For the past 20 years she only did her shopping in Brazil. Every time she would wear one of her outfits from Brazil here she would get many compliments. After having her 3rd baby she decided to quit the corporate world and go do something she really loved - which is fashion. She opened a  very cute boutique by her house where she could be close to her baby girl and see her clients in a very unique and special way. She always pays attention to what the client really likes and needs. She serves champagne and make them feel very comfortable. She is all about the experience - She believes that the world is lacking personal touch\, face-to-face.... and she is right! Come to Aurora Boutique to see for yourself and fall in love with their unique style and amazing customer service.
X-ALT-DESC;FMTTYPE=text/html:<div>\n<div>\n<div style="text-align: center\;">CHAMPAGNE WITH THE CHAMBER<br />\n<br />\nHosted by<br />\n<br />\n<span style="font-family: arial\;"><span style="font-size: 18px\;"><b>Aurora Boutique</b></span></span><br />\n<br />\n<br />\n<span style="font-family: arial\;"><span style="font-size: 18px\;"><strong>Friday\, January 10\, 2020</strong></span><br />\n<br />\n<span style="font-size: 16px\;">9:00 AM -10:00 AM</span><br />\n<br />\n<span style="font-size: 16px\;">Champagne\, conversation and networking with fellow members and chamber leadership.</span></span><br />\n<br />\n&nbsp\;\n<hr />&nbsp\;\n<p><span style="font-size:18px\;"><u><strong><span style="font-family:arial\;">About Aurora Boutique</span></strong></u></span><br />\n<br />\nAn exclusive and unique boutique where you can shop as if you were in Brazil. The clothes fit everyone perfectly and the prices are extremely fair. No reason to wait to go to Brazil to have a little taste of their style.<br />\n<br />\nThe owner is a Brazilian mom that has been living in the US for many years but never lost her roots. For the past 20 years she only did her shopping in Brazil. Every time she would wear one of her outfits from Brazil here she would get many compliments. After having her 3rd baby she decided to quit the corporate world and go do something she really loved - which is fashion. She opened a &nbsp\;very cute boutique by her house where she could be close to her baby girl and see her clients in a very unique and special way. She always pays attention to what the client really likes and needs. She serves champagne and make them feel very comfortable. She is all about the experience - She believes that the world is lacking personal touch\, face-to-face.... and she is right! Come to Aurora Boutique to see for yourself and fall in love with their unique style and amazing customer service.</p>\n</div>\n</div>\n</div>\n\n<div><span style="font-size: 14px"><span style="font-size: 16px"><span style="font-family: arial"><span style="color: #000080"><span _fck_bookmark="1" style="display: none">&nbsp\;</span></span></span></span></span></div>\n
LOCATION:1040 71st Street\, #105\, Miami Beach\, FL\, 33141
UID:e.166.47995
SEQUENCE:3
DTSTAMP:20260423T062047Z
URL:https://business.miamibeachchamber.com/events/details/champagne-with-the-chamber-aurora-boutique-47995
END:VEVENT

END:VCALENDAR
