BEGIN:VCALENDAR
VERSION:2.0
PRODID:-//ChamberMaster//Event Calendar 2.0//EN
METHOD:PUBLISH
X-PUBLISHED-TTL:P3D
REFRESH-INTERVAL:P3D
CALSCALE:GREGORIAN
BEGIN:VEVENT
DTSTART:20190905T220000Z
DTEND:20190906T000000Z
X-MICROSOFT-CDO-ALLDAYEVENT:FALSE
SUMMARY:Chamber on the Move | Miami Edition: Bon Chocolatier
DESCRIPTION:Chamber On the Move: Miami Edition\n\nChocolate & Wine Pairing experience at \n\n\n\nBon Chocolatier\n\nThursday\, September 5\, 2019\n\n6:00 PM - 8:00 PM\n\n\n\nAdmission: $20\n\nTicket includes:\n\n \n\nThree courses of artisan chocolate and wine pairings.\n\n\n\n\n\n\n\nPARKING\n\nMetered parking available. We encourage you to ride-share.\n\n\nAbout Bon Chocolatier\n\n\n\nWhen it comes to enhancing the experience of your guests\, you will enjoy being able to give items that are unique\, unforgettable and unexpected. \n\nBON Chocolatier artisanal chocolates are special\, something that only a fortunate few people will ever own. \n\nBON Chocolatier brings a nonpareil\, artistic style to chocolate and shares the passion with everyone. \n\nAs the finest artisan chocolatier in Miami\, BON Chocolatier is creating real experiences in our utterly unique chocolate atelier boutique. \n\nAll of our fine chocolates are crafted with passion using world-class techniques. For these reasons\, our delicate\, tasty and fresh range of flavors charm every playful spirit and palate. \n\nBON Chocolatier is a 100% vegan and kosher certified company that only selects ingredients from the finest sources in the world.
X-ALT-DESC;FMTTYPE=text/html:<div style="text-align: center\;"><em><u><strong><span style="font-size:20px\;">Chamber On the Move: Miami Edition</span></strong></u></em><br />\n<span style="font-size:14px\;">Chocolate &amp\; Wine Pairing experience at&nbsp\;<br />\n<br />\n<span style="font-size:24px\;"><strong>Bon Chocolatier</strong></span><br />\n<span style="font-size:16px\;">Thursday\, September 5\, 2019<br />\n6:00 PM - 8:00 PM</span><br />\n<br />\n<span style="font-size:16px\;"><strong>Admission: $20</strong></span><br />\n<em>Ticket includes:</em></span><br />\n&nbsp\;</div>\n\n<div style="text-align: center\;"><span style="font-size:14px\;">Three courses of artisan chocolate and wine pairings.</span><br />\n<br />\n<br />\n<br />\n<strong><span style="font-size:18px\;"><u>PARKING</u></span></strong><br />\nMetered parking available. We encourage you to ride-share.\n<hr /><br />\n<strong><span style="font-size:18px\;"><u>About Bon Chocolatier</u></span></strong><br />\n<br />\nWhen it comes to enhancing the experience of your guests\, you will enjoy being able to give items that are unique\, unforgettable and unexpected.&nbsp\;<br />\nBON Chocolatier artisanal chocolates are special\, something that only a fortunate few people will ever own.&nbsp\;<br />\nBON Chocolatier brings a nonpareil\, artistic style to chocolate and shares the passion with everyone.&nbsp\;<br />\nAs the finest artisan chocolatier in Miami\, BON Chocolatier is creating real experiences in our utterly unique chocolate atelier boutique.&nbsp\;<br />\nAll of our fine chocolates are crafted with passion using world-class techniques. For these reasons\, our delicate\, tasty and fresh range of flavors charm every playful spirit and palate.&nbsp\;<br />\nBON Chocolatier is a 100% vegan and kosher certified company that only selects ingredients from the finest sources in the world.&nbsp\; &nbsp\;<br />\n&nbsp\;</div>\n
LOCATION:Bon Chocolatier 1001 Kane Concourse Bay Harbor\, FL 33154
UID:e.166.43293
SEQUENCE:3
DTSTAMP:20260423T085334Z
URL:https://business.miamibeachchamber.com/events/details/chamber-on-the-move-miami-edition-bon-chocolatier-43293
END:VEVENT

END:VCALENDAR
