BEGIN:VCALENDAR
VERSION:2.0
PRODID:-//ChamberMaster//Event Calendar 2.0//EN
METHOD:PUBLISH
X-PUBLISHED-TTL:P3D
REFRESH-INTERVAL:P3D
CALSCALE:GREGORIAN
BEGIN:VEVENT
DTSTART:20181101T220000Z
DTEND:20181101T233000Z
X-MICROSOFT-CDO-ALLDAYEVENT:FALSE
SUMMARY:Chamber Active Presents: High-Intensity Yoga at Maham Yoga Studio
DESCRIPTION:The Miami Beach Chamber of Commerce invites you to attend a special\n\nChamber Active event host by Maham Yoga Center. \n\n\n\nHi-Intensity Yoga\n\nHIY or high-intensity yoga challenges you to give 100%\, alternating work and rest.\n\nYou will flow through powerful vinyasa sequences\, then return to the breath for recovery.\n\n\n\n\n\nWear Comfortable Clothes\n\n\n\n\n\nPARKING\n\nGarage parking lot is available on 10th Street & West Avenue\n\n(adjacent to Whole Food Market)
X-ALT-DESC;FMTTYPE=text/html:<div>\n<div style="text-align: center\;"><br />\n<br />\n<span style="font-size:18px\;"><span style="font-family:arial\;"><b>The Miami Beach Chamber of Commerce invites you to attend a special<br />\n<em>Chamber Active </em>event host by Maham Yoga Center.&nbsp\;<br />\n<br />\nHi-Intensity Yoga</b></span></span><br />\n<span style="font-size:18px\;"><span style="font-family:arial\;"><span style="background-color: rgba(0\, 0\, 0\, 0.01)\;">HIY or high-intensity yoga challenges you to give 100%\, alternating work and rest.<br />\nYou will flow through powerful vinyasa sequences\, then return to the breath for recovery.</span></span></span><br />\n<br />\n<br />\n<em><font face="arial"><span style="font-size: 18px\;"><b>Wear Comfortable&nbsp\;Clothes</b></span></font></em><br />\n<br />\n<br />\n<span style="font-size: 18px\;"><u><strong><span style="font-size: 20px\;">PARKING</span></strong></u><br />\nGarage parking lot is available on 10th Street &amp\; West Avenue<br />\n(</span><span style="font-size: 18px\;">adjacent to Whole Food Market)</span><br />\n<br />\n&nbsp\;</div>\n</div>\n\n<div><span style="font-size: 14px"><span style="font-size: 16px"><span style="font-family: arial"><span style="color: #000080"><span _fck_bookmark="1" style="display: none">&nbsp\;</span></span></span></span></span></div>\n
LOCATION:Maham Yoga Studio (adjacent to Southgate Towers) 910 West Avenue\, Suites B & C Miami Beach\, FL 33139 (310) 877 0130
UID:e.166.37609
SEQUENCE:3
DTSTAMP:20260422T015041Z
URL:https://business.miamibeachchamber.com/events/details/chamber-active-presents-high-intensity-yoga-at-maham-yoga-studio-37609
END:VEVENT

END:VCALENDAR
