BEGIN:VCALENDAR
VERSION:2.0
PRODID:-//ChamberMaster//Event Calendar 2.0//EN
METHOD:PUBLISH
X-PUBLISHED-TTL:P3D
REFRESH-INTERVAL:P3D
CALSCALE:GREGORIAN
BEGIN:VEVENT
DTSTART:20190427T190500Z
DTEND:20190427T220000Z
X-MICROSOFT-CDO-ALLDAYEVENT:FALSE
SUMMARY:CAO Bakery & Cafe - Grand Opening & Ribbon Cutting
DESCRIPTION:Join us for CAO Bakery opening featuring live music and free giveaways.\n\n\n\nFree Hatuey Beer\n\n\n\nRibbon Cutting at 3:30 PM.
X-ALT-DESC;FMTTYPE=text/html:Join us for CAO Bakery opening featuring live music and free giveaways.<br />\n<br />\nFree Hatuey Beer<br />\n<br />\nRibbon Cutting at 3:30 PM.
LOCATION:1420 Alton Road Miami Beach
UID:e.166.42400
SEQUENCE:3
DTSTAMP:20260422T131212Z
URL:https://business.miamibeachchamber.com/events/details/cao-bakery-cafe-grand-opening-ribbon-cutting-42400
END:VEVENT

END:VCALENDAR
