BEGIN:VCALENDAR
VERSION:2.0
PRODID:-//ChamberMaster//Event Calendar 2.0//EN
METHOD:PUBLISH
X-PUBLISHED-TTL:P3D
REFRESH-INTERVAL:P3D
CALSCALE:GREGORIAN
BEGIN:VEVENT
DTSTART:20190911T160000Z
DTEND:20190911T173000Z
X-MICROSOFT-CDO-ALLDAYEVENT:FALSE
SUMMARY:CANCELLED- Health & Wellness Council Luncheon
DESCRIPTION:THIS COUNCIL MEETING HAS BEEN CANCELLED.\n\n\n\n\n\nOn behalf of council chairs Lynn Carey (Arbonne International) and Jacque Tarlton (Plant Chics)\, you are invited to the Health & Wellness Council's monthly meeting and social hour at the one and only Nikki Beach.\n\n\n\nEnjoy a three-course MIAMI SPICE experience and mingle with your fellow council members at this breezy and glamorous venue! \n\n\n\n \n\n*Cancellations with a full refund must be made 2 business days prior to the event*
X-ALT-DESC;FMTTYPE=text/html:<strong><span style="color:#FF0000\;">THIS COUNCIL MEETING HAS BEEN CANCELLED.</span></strong><br />\n<br />\n<br />\nOn behalf of council chairs Lynn Carey (Arbonne International) and Jacque Tarlton (Plant Chics)\, you are invited to the Health &amp\; Wellness Council&#39\;s monthly meeting and social hour at the one and only Nikki Beach.<br />\n<br />\nEnjoy a three-course MIAMI SPICE experience and mingle with your fellow council members at this breezy and glamorous venue!&nbsp\;<br />\n<br />\n&nbsp\;<br />\n<em>*Cancellations with a full refund must be made 2 business days prior to the event*&nbsp\;</em>
LOCATION:Nikki Beach 1 Ocean Drive\, Miami Beach\, FL 33139
UID:e.166.41915
SEQUENCE:3
DTSTAMP:20260423T085658Z
URL:https://business.miamibeachchamber.com/events/details/cancelled-health-wellness-council-luncheon-41915
END:VEVENT

END:VCALENDAR
