BEGIN:VCALENDAR
VERSION:2.0
PRODID:-//ChamberMaster//Event Calendar 2.0//EN
METHOD:PUBLISH
X-PUBLISHED-TTL:P3D
REFRESH-INTERVAL:P3D
CALSCALE:GREGORIAN
BEGIN:VEVENT
DTSTART:20181123T140000Z
DTEND:20181123T150000Z
X-MICROSOFT-CDO-ALLDAYEVENT:FALSE
SUMMARY:CANCELLED Coffee With The Chamber - Happy Thanksgiving Holiday
DESCRIPTION:No Coffee Today - Enjoy your Thanksgiving Holiday
X-ALT-DESC;FMTTYPE=text/html:<div><b style="color: rgb(51\, 51\, 51)\; font-family: verdana\, sans-serif\; font-size: 20px\; background-color: rgb(255\, 255\, 255)\;">No Coffee Today - Enjoy your Thanksgiving Holiday</b></div>\n\n<div><span style="font-size: 14px"><span style="font-size: 16px"><span style="font-family: arial"><span style="color: #000080"><span _fck_bookmark="1" style="display: none">&nbsp\;</span></span></span></span></span></div>\n
LOCATION:No Coffee Today - Enjoy your Thanksgiving Holiday
UID:e.166.38256
SEQUENCE:3
DTSTAMP:20260422T001848Z
URL:https://business.miamibeachchamber.com/events/details/cancelled-coffee-with-the-chamber-happy-thanksgiving-holiday-38256
END:VEVENT

END:VCALENDAR
