BEGIN:VCALENDAR
VERSION:2.0
PRODID:-//ChamberMaster//Event Calendar 2.0//EN
METHOD:PUBLISH
X-PUBLISHED-TTL:P3D
REFRESH-INTERVAL:P3D
CALSCALE:GREGORIAN
BEGIN:VEVENT
DTSTART:20190419T140000Z
DTEND:20190421T210000Z
X-MICROSOFT-CDO-ALLDAYEVENT:FALSE
SUMMARY:BunnyPalooza at Miami Seaquarium
DESCRIPTION:Largest Easter parade in South Florida with five acres of bounce houses\, slides and rides. Continuous Easter egg hunts every day and daily visits from the real\, live Easter Bunny. Plus\, don't miss the ALL-NEW Savage Ancient Seas exhibit!
X-ALT-DESC;FMTTYPE=text/html:<h2>Largest Easter parade in South Florida with five acres of bounce houses\, slides and rides. Continuous Easter egg hunts every day and daily visits from the real\, live Easter Bunny. Plus\, don&rsquo\;t miss the ALL-NEW Savage Ancient Seas exhibit!</h2>\n
LOCATION:Miami Seaquarium
UID:e.166.42391
SEQUENCE:3
DTSTAMP:20260422T114220Z
URL:https://business.miamibeachchamber.com/events/details/bunnypalooza-at-miami-seaquarium-42391
END:VEVENT

END:VCALENDAR
