BEGIN:VCALENDAR
VERSION:2.0
PRODID:-//ChamberMaster//Event Calendar 2.0//EN
METHOD:PUBLISH
X-PUBLISHED-TTL:P3D
REFRESH-INTERVAL:P3D
CALSCALE:GREGORIAN
BEGIN:VEVENT
DTSTART:20200228T203000Z
DTEND:20200228T213000Z
X-MICROSOFT-CDO-ALLDAYEVENT:FALSE
SUMMARY:Between the Dark and Light: The Grateful Dead Photography of Jay Blakesberg
DESCRIPTION:This 60-minute slideshow/storytelling adventure. recounts his colorful story of being a 1970's dead-end suburban teenager who comes to life when he discovers the Grateful Dead and Photography. As the story unfolds he shares many stories behind his iconic photographs of the band and how he becomes one of the photographers whose work documenting the Dead has become part of the permanent visual record of the Grateful Dead experience.\n\nFree With Registration at https://www.eventbrite.com/e/between-the-dark-and-light-the-grateful-dead-photography-of-jay-blakesberg-tickets-92487120467
X-ALT-DESC;FMTTYPE=text/html:<span style="color:rgb(0\, 0\, 0)">This 60-minute slideshow/storytelling adventure. recounts his colorful story of being a 1970&rsquo\;s dead-end suburban teenager who comes to life when he discovers the Grateful Dead and Photography. As the story unfolds he shares many stories behind his iconic photographs of the band and how he becomes one of the photographers whose work documenting the Dead has become part of the permanent visual record of the Grateful Dead experience.</span><br />\nFree With Registration at https://www.eventbrite.com/e/between-the-dark-and-light-the-grateful-dead-photography-of-jay-blakesberg-tickets-92487120467
LOCATION:Miami Beach Botanical Garden 2000 Convention Center Dr Miami Beach\, FL 33139
UID:e.166.48050
SEQUENCE:3
DTSTAMP:20260423T062433Z
URL:https://business.miamibeachchamber.com/events/details/between-the-dark-and-light-the-grateful-dead-photography-of-jay-blakesberg-48050
END:VEVENT

END:VCALENDAR
