BEGIN:VCALENDAR
VERSION:2.0
PRODID:-//ChamberMaster//Event Calendar 2.0//EN
METHOD:PUBLISH
X-PUBLISHED-TTL:P3D
REFRESH-INTERVAL:P3D
CALSCALE:GREGORIAN
BEGIN:VEVENT
DTSTART:20181209T220000Z
DTEND:20181210T000000Z
X-MICROSOFT-CDO-ALLDAYEVENT:FALSE
SUMMARY:Author Series: Between The Business Covers
DESCRIPTION:The Miami Beach Chamber's Tourism & Hospitality Council\, Books & Books and the Miami Beach JCC Presents\n\n \n\nAuthor Series: Between The Business Covers\n\nFeaturing Author Bob Diener\n\n\n\nLocation: \n\nMiami Beach Jewish Community Center\n\n4221 Pine Tree Dr.\n\n\n\nDate/Time: \n\nSunday\, December 9\, 2018\n\n5:00 PM - 7:00 PM\n\n \n\nChaired by Melissa Rubin (COMPASS)\, the Between The Business Covers author series brings business leader authors to our community that inspire us. This is a unique opportunity to hear them speak about their book and story\, followed by a Question and Answer session and book signing. For our first edition\,  we are featuring Bob Diener who is the co-founder and President of getaroom.com\, which was awarded best hotel booking site by frommers.com. After receiving his law degree from Cornell where he was an editor of the Cornell  Law Review\, he practiced securities and corporate law with the firm of   Gibson Dunn & Crutcher. He co-founded Hotels Reservations Network which became hotels.com\, took it public in 2000 and merged it with Expedia in 2003. \n\n \n\nHe is the author of two books   the  Biblical Secrets to Business Success and the Savvy Traveler.\n\n \n\nFree and open to the public. Refreshments will be served.\n\n \n\nRegister for this one a kind event before space runs out.\n\n\n\nParking\n\nParking is limited to JCC Members only. Feel free to park in the municipal parking garge on W 42nd ST and Sheridan Avenue.\n\nWe encourage you to rideshare! Download the miRide app (use referral code mimbcc10) and 10% of all proceeds will benefit the Miami Beach Education Foundation. You can also use the Ride Freebee app for free transportation to certain locations.
X-ALT-DESC;FMTTYPE=text/html:<div style="text-align: center\;"><span style="font-size:16px\;"><span style="font-family:arial\;">The Miami Beach Chamber&#39\;s Tourism &amp\; Hospitality Council\, Books &amp\;&nbsp\;Books and the Miami Beach JCC&nbsp\;Presents<br />\n&nbsp\;<br />\n<strong>Author Series: Between The Business Covers<br />\nFeaturing Author Bob Diener</strong><br />\n<br />\n<u><strong>Location:&nbsp\;</strong></u><br />\nMiami Beach Jewish Community Center<br />\n4221 Pine Tree Dr.<br />\n<br />\n<u><strong>Date/Time:&nbsp\;</strong></u><br />\nSunday\, December 9\, 2018<br />\n5:00 PM -&nbsp\;7:00 PM<br />\n&nbsp\;</span><br />\n<span style="font-family:calibri light\,sans-serif\;"><span style="font-family:arial\;">Chaired by Melissa Rubin (COMPASS)\, the <em>Between The Business Covers</em> author series brings business leader authors to our community that inspire us. This is a unique opportunity to hear them speak about their book and story\, followed by a Question and Answer session and book signing.&nbsp\;For our first edition\, &nbsp\;we are featuring Bob Diener who is the co-founder and President of <a href="http://getaroom.com">getaroom.com</a>\, which was awarded best hotel booking site by <a href="http://frommers.com">frommers.com</a>. After receiving his law degree from Cornell where he was an editor of the Cornell&nbsp\; Law Review\, he practiced securities and corporate law with the firm of&nbsp\;&nbsp\; Gibson Dunn &amp\; Crutcher. He co-founded Hotels Reservations Network which became <a href="http://hotels.com">hotels.com</a>\, took it public in 2000 and merged it with Expedia in 2003. </span></span><br />\n<span style="font-family:arial\;">&nbsp\;<br />\nHe is the author of two books &ndash\; the&nbsp\; <em>Biblical Secrets to Business Success</em> and the <em>Savvy Traveler</em>.<br />\n&nbsp\;<br />\nFree and open to the public. Refreshments will be served.<br />\n&nbsp\;<br />\nRegister for this one a kind event before space runs out.<br />\n<br />\n<u><strong>Parking</strong></u><br />\nParking is limited to JCC Members only. Feel free to park in the municipal parking garge on W 42nd ST and Sheridan Avenue.</span><br />\nWe encourage you to rideshare! Download the miRide app (use referral code mimbcc10) and 10% of all proceeds will benefit the Miami Beach Education Foundation. You can also use the Ride Freebee app for free transportation to certain locations.</span><br />\n&nbsp\;</div>\n
LOCATION:Miami Beach Jewish Community Center 4221 Pine Tree Dr.
UID:e.166.39051
SEQUENCE:3
DTSTAMP:20260421T223847Z
URL:https://business.miamibeachchamber.com/events/details/author-series-between-the-business-covers-39051
END:VEVENT

END:VCALENDAR
