BEGIN:VCALENDAR
VERSION:2.0
PRODID:-//ChamberMaster//Event Calendar 2.0//EN
METHOD:PUBLISH
X-PUBLISHED-TTL:P3D
REFRESH-INTERVAL:P3D
CALSCALE:GREGORIAN
BEGIN:VEVENT
DTSTART:20181107T000000Z
DTEND:20181107T010000Z
X-MICROSOFT-CDO-ALLDAYEVENT:FALSE
SUMMARY:Art Talk by Danielle Damas
DESCRIPTION:Danielle Damas is the Gallery Manager at the David Castillo Gallery.  Join us for the evening and find out how Danielle prepares for Art Basel and Art Week.
X-ALT-DESC;FMTTYPE=text/html:&nbsp\;<br />\n<span style="background-color:transparent\; color:rgb(116\, 116\, 116)\; font-family:roboto\,arial\,helvetica\,sans-serif\; font-size:15px">Danielle Damas is the Gallery Manager at the David Castillo Gallery.&nbsp\; Join us for the evening and find out how Danielle prepares for Art Basel and Art Week.</span>
LOCATION:Miami Beach Urban Studios 420 Lincoln Road Miami Beach\, FL 33139
UID:e.166.39317
SEQUENCE:3
DTSTAMP:20260422T014750Z
URL:https://business.miamibeachchamber.com/events/details/art-talk-by-danielle-damas-39317
END:VEVENT

END:VCALENDAR
