BEGIN:VCALENDAR
VERSION:2.0
PRODID:-//ChamberMaster//Event Calendar 2.0//EN
METHOD:PUBLISH
X-PUBLISHED-TTL:P3D
REFRESH-INTERVAL:P3D
CALSCALE:GREGORIAN
BEGIN:VEVENT
DTSTART:20190912T220000Z
DTEND:20190913T000000Z
X-MICROSOFT-CDO-ALLDAYEVENT:FALSE
SUMMARY:Art Opening: "Green" by Moira Holohan
DESCRIPTION:Join us for an opening reception for Moira Holohan's exhibition "Green". The Work involves the use of woven meditative practice while exploring virtual time and space. Through a series of hand woven screens with hemp and bamboo cord Holohan investigates chroma key compositing\, better known as green screen\, as a playful subjective color and area which can exist as a pictorial organic object and/or a portal to a virtual transient site. The exhibition is along side the lush and vibrant vegetation of The Miami Beach Botanical Gardens further investigating the tension between the natural/real and virtual world.\n\n\n\nFree With Registration at:\n\nhttps://www.eventbrite.com/e/art-opening-green-by-moira-holohan-tickets-70377834999
X-ALT-DESC;FMTTYPE=text/html:<span style="color:#000000"><span style="font-family:arial\,helvetica\,sans-serif"><span style="font-size:14.933333396911621px">Join us for an opening reception for&nbsp\;Moira</span><span style="font-size:14.933333396911621px">&nbsp\;</span><span style="font-size:14.933333396911621px">Holohan</span><span style="font-size:14.933333396911621px">&rsquo\;s exhibition &quot\;</span><em>Green&quot\;. </em><span style="font-size:14px">The Work involves</span><span style="font-size:14.933333396911621px"><span style="font-size:14px">&nbsp\;</span>the use of woven meditative practice while exploring virtual time and space</span><span style="font-size:14.933333396911621px">. Through a series of hand woven screens with hemp and bamboo cord&nbsp\;</span><span style="font-size:14.933333396911621px">Holohan</span></span><span style="font-family:neue plak\,-apple-system\,blinkmacsystemfont\,roboto\,helvetica neue\,helvetica\,tahoma\,arial\,sans-serif\; font-size:14.933333396911621px"><span style="font-family:arial\,helvetica\,sans-serif">&nbsp\;investigates chroma key compositing\, better known as green screen\, as a playful subjective color and area which can exist as a pictorial organic object and/or a portal to a virtual transient site. The exhibition is along side the lush and vibrant vegetation of The Miami Beach Botanical Gardens further investigating the tension between the natural/real and virtual world.</span></span></span><br />\n<br />\nFree With Registration at:<br />\nhttps://www.eventbrite.com/e/art-opening-green-by-moira-holohan-tickets-70377834999
LOCATION:Miami Beach Botanical Garden 2000 Convention Center Dr. Miami Beach\, FL 33139 305.673.7256
UID:e.166.43569
SEQUENCE:3
DTSTAMP:20260421T043603Z
URL:https://business.miamibeachchamber.com/events/details/art-opening-green-by-moira-holohan-43569
END:VEVENT

END:VCALENDAR
