BEGIN:VCALENDAR
VERSION:2.0
PRODID:-//ChamberMaster//Event Calendar 2.0//EN
METHOD:PUBLISH
X-PUBLISHED-TTL:P3D
REFRESH-INTERVAL:P3D
CALSCALE:GREGORIAN
BEGIN:VEVENT
DTSTART:20191024T220000Z
DTEND:20191025T000000Z
X-MICROSOFT-CDO-ALLDAYEVENT:FALSE
SUMMARY:Art Exhibition Opening: "Implanted" by Sara Averbook Kaplan
DESCRIPTION:Join us to celebrate the work of Sara Averbook Kaplan.  As a South Florida native\, Kaplan feels a responsibility to bring a resurgence of magic\, consciousness and connection to nature to her city and community.  With The Miami Beach Botanical Garden as her current muse Kaplan is creating a coloring book and painting exhibition based on the historic  land\, it's vegetation and fascinating  inhabitants.  Kaplan received her BFA in Fine Art from California Institute of the Arts\, has collaborated with fashion and beauty brands such as FENDI and diptyque. You can find her daily in her  Little River studio - Visual Arts Group.
X-ALT-DESC;FMTTYPE=text/html:<span style="color:rgb(0\, 0\, 0)\; font-family:helvetica neue\,helvetica\,arial\,sans-serif">Join us to celebrate the work of Sara Averbook Kaplan.&nbsp\; As a South Florida native\, Kaplan feels a responsibility to bring a resurgence of magic\, consciousness and connection to nature to her city and community.&nbsp\; With The Miami Beach Botanical Garden as her current muse Kaplan is creating a coloring book and painting exhibition based on the historic&nbsp\; land\, it&rsquo\;s vegetation and fascinating&nbsp\; inhabitants.&nbsp\; Kaplan received her BFA in Fine Art from California Institute of the Arts\, has collaborated with fashion and beauty brands such as FENDI and diptyque. You can find her daily in her&nbsp\; Little River studio - Visual Arts Group.</span>
LOCATION:Miami Beach Botanical Garden 2000 Convention Center Dr. Miami Beach\, FL 33139 305.673.7256
UID:e.166.43949
SEQUENCE:3
DTSTAMP:20260423T103119Z
URL:https://business.miamibeachchamber.com/events/details/art-exhibition-opening-implanted-by-sara-averbook-kaplan-43949
END:VEVENT

END:VCALENDAR
