BEGIN:VCALENDAR
VERSION:2.0
PRODID:-//ChamberMaster//Event Calendar 2.0//EN
METHOD:PUBLISH
X-PUBLISHED-TTL:P3D
REFRESH-INTERVAL:P3D
CALSCALE:GREGORIAN
BEGIN:VEVENT
DTSTART:20191003T213000Z
DTEND:20191003T233000Z
X-MICROSOFT-CDO-ALLDAYEVENT:FALSE
SUMMARY:Annual Meeting & 2020 Board Installation
DESCRIPTION:You are cordially invited to the Miami Beach Chamber of Commerce\n\n\n\nAnnual Meeting\n\n\n\nSponsored by City National Bank\n\n\n\nChairwoman Elect Robin Jacobs invites ALL MEMBERS to attend our Annual Meeting & Installation of the 2019-2020 Board of Governors\, Executive Board\, Council Chairs and Pillar Board Trustees.\n\n\n\nHors d'oeuvres\, beer and wine will be available.\n\n\n\nWith special presentation & appearance from Celebrity Soccer Match participant Sports Illustrated Model Mara Martin.\n\n\n\n\n\n\n\nParking\n\nDiscounted Valet available for $10. We encourage you to rideshare.
X-ALT-DESC;FMTTYPE=text/html:You are cordially invited to the Miami Beach Chamber of Commerce<br />\n<br />\n<span style="font-size:24px\;">Annual Meeting</span><br />\n<br />\n<span style="font-size:20px\;">Sponsored by City National Bank</span><br />\n<br />\nChairwoman Elect Robin Jacobs invites ALL MEMBERS to attend our Annual Meeting &amp\; Installation of the 2019-2020 Board of Governors\, Executive Board\, Council Chairs and Pillar Board Trustees.<br />\n<br />\nHors d&#39\;oeuvres\, beer and wine will be available.<br />\n<br />\n<span data-slate-fragment="JTdCJTIyb2JqZWN0JTIyJTNBJTIyZG9jdW1lbnQlMjIlMkMlMjJkYXRhJTIyJTNBJTdCJTdEJTJDJTIybm9kZXMlMjIlM0ElNUIlN0IlMjJvYmplY3QlMjIlM0ElMjJibG9jayUyMiUyQyUyMnR5cGUlMjIlM0ElMjJwYXJhZ3JhcGglMjIlMkMlMjJkYXRhJTIyJTNBJTdCJTdEJTJDJTIybm9kZXMlMjIlM0ElNUIlN0IlMjJvYmplY3QlMjIlM0ElMjJ0ZXh0JTIyJTJDJTIybGVhdmVzJTIyJTNBJTVCJTdCJTIyb2JqZWN0JTIyJTNBJTIybGVhZiUyMiUyQyUyMnRleHQlMjIlM0ElMjIlNUNyV2l0aCUyMFNwZWNpYWwlMjBHdWVzdCUyMFNwb3J0cyUyMElsbHVzdHJhdGVkJTIwTW9kZWwlMjBNYXJhJTVDciUyME1hcnRpbiUyMHNwZWFraW5nJTIwb24lMjBDZWxlYnJpdHklMjBTb2NjZXIlMjBNYXRjaC4lMjIlMkMlMjJtYXJrcyUyMiUzQSU1QiU1RCU3RCU1RCU3RCU1RCU3RCU1RCU3RA==" style="white-space: pre\;">With special presentation &amp\; appearance from Celebrity Soccer Match participant Sports Illustrated Model Mara Martin.</span><br />\n<br />\n<br />\n<br />\n<u><strong>Parking</strong></u><br />\nDiscounted Valet available for $10. We encourage you to rideshare.
LOCATION:Cadillac Hotel & Beach Club 3925 Collins Avenue\, Miami Beach\, FL 33140
UID:e.166.43693
SEQUENCE:3
DTSTAMP:20260423T115503Z
URL:https://business.miamibeachchamber.com/events/details/annual-meeting-2020-board-installation-43693
END:VEVENT

END:VCALENDAR
