BEGIN:VCALENDAR
VERSION:2.0
PRODID:-//ChamberMaster//Event Calendar 2.0//EN
METHOD:PUBLISH
X-PUBLISHED-TTL:P3D
REFRESH-INTERVAL:P3D
CALSCALE:GREGORIAN
BEGIN:VEVENT
DTSTART:20181216T160000Z
DTEND:20181216T210000Z
X-MICROSOFT-CDO-ALLDAYEVENT:FALSE
SUMMARY:Annual Botanical Bazaar
DESCRIPTION:Join us for the Garden's annual Botanical Bazaar\, featuring local artisans selling botanically-themed products and garden-inspired creations\, plus orchids and other plants. Delicious snacks and beverages will be available for purchase.\n\nThis year we are thrilled to have Ellen Kanner\, award-winning author\, soulful vegan writer and recipe developer presenting Holiday Treats with Seasonal Produce: Cooking demo and book signing.\n\nEvent is free with registration at:\n\nhttps://www.eventbrite.com/e/annual-botanical-bazaar-tickets-51268039085#tickets
X-ALT-DESC;FMTTYPE=text/html:<p>Join us for the Garden&rsquo\;s annual Botanical Bazaar\, featuring local artisans selling botanically-themed products and garden-inspired creations\, plus orchids and other plants. Delicious snacks and beverages will be available for purchase.</p>\n\n<p>This year we are thrilled to have Ellen Kanner\, award-winning author\, soulful vegan writer and recipe developer presenting Holiday Treats with Seasonal Produce: Cooking demo and book signing.</p>\n\n<p>Event is free with registration at:<br />\nhttps://www.eventbrite.com/e/annual-botanical-bazaar-tickets-51268039085#tickets</p>\n
LOCATION:Miami Beach Botanical Garden 2000 Convention Center Dr Miami Beach\, FL 33139
UID:e.166.39042
SEQUENCE:3
DTSTAMP:20260421T223820Z
URL:https://business.miamibeachchamber.com/events/details/annual-botanical-bazaar-39042
END:VEVENT

END:VCALENDAR
