BEGIN:VCALENDAR
VERSION:2.0
PRODID:-//ChamberMaster//Event Calendar 2.0//EN
METHOD:PUBLISH
X-PUBLISHED-TTL:P3D
REFRESH-INTERVAL:P3D
CALSCALE:GREGORIAN
BEGIN:VEVENT
DTSTART:20191215T160000Z
DTEND:20191215T210000Z
X-MICROSOFT-CDO-ALLDAYEVENT:FALSE
SUMMARY:Annual Botanical Bazaar
DESCRIPTION:Why stress out at the mall??? Come shop under the palms and enjoy a day filled with activities for the entire family. Join us for the Garden's Annual Botanical Bazaar\, featuring local artisans selling not just only botanically themed products\, candles\, clothing\, accessories but much much more. Enjoy delicious snacks beverages and relax in this one of a kind shopping experience. There will be free children's art workshops\, holiday music\, yoga and mindful breathing demonstrations throughout the day. Check out some of the amazing gift ideas that will thrill everyone on your shopping list.
X-ALT-DESC;FMTTYPE=text/html:<span style="color:#000000"><span style="font-family:neue plak\,-apple-system\,blinkmacsystemfont\,roboto\,helvetica neue\,helvetica\,tahoma\,arial\,sans-serif\; font-size:14.933333396911621px">Why stress out at the mall??? Come shop under the palms and enjoy a day filled with activities for the entire family. Join us for the Garden&rsquo\;s Annual Botanical Bazaar\, featuring local artisans selling not just only botanically themed products\, candles\, clothing\, accessories but much much more. Enjoy delicious&nbsp\;</span><span style="font-family:neue plak\,-apple-system\,blinkmacsystemfont\,roboto\,helvetica neue\,helvetica\,tahoma\,arial\,sans-serif\; font-size:14.933333396911621px">snacks beverages and relax in this one of a kind shopping experience. There will be free children&#39\;s art workshops\, holiday music\, yoga and mindful breathing demonstrations throughout the day. Check out some of the amazing gift ideas that will thrill everyone on your shopping list.</span></span>
LOCATION:Miami Beach Botanical Garden 2000 Convention Center Dr. Miami Beach\, FL 33139 305.673.7256
UID:e.166.43734
SEQUENCE:3
DTSTAMP:20260419T131944Z
URL:https://business.miamibeachchamber.com/events/details/annual-botanical-bazaar-12-15-2019-43734
END:VEVENT

END:VCALENDAR
