BEGIN:VCALENDAR
VERSION:2.0
PRODID:-//ChamberMaster//Event Calendar 2.0//EN
METHOD:PUBLISH
X-PUBLISHED-TTL:P3D
REFRESH-INTERVAL:P3D
CALSCALE:GREGORIAN
BEGIN:VEVENT
DTSTART:20190411T200000Z
DTEND:20190411T220000Z
X-MICROSOFT-CDO-ALLDAYEVENT:FALSE
SUMMARY:Advocacy Seder
DESCRIPTION:The Miami Beach Chamber and The Greater Miami Jewish Federation's Task Force to Combat Human Trafficking Invites You to an \n\n\n\nAdvocacy Seder\n\nA Commemoration of Slavery to Freedom\n\n\n\nThursday\, April 11\, 2019\n\n4:00 PM - 6:00 PM\n\n\n\nwith Special Guest\n\n\n\nKatherine Fernandez Rundle   |   Miami-Dade State Attorney\n\n\n\n\n\nLocation\n\nGreater Miami Jewish Federation\n\n4200 Biscayne Blvd. Miami FL 33137
X-ALT-DESC;FMTTYPE=text/html:<div style="text-align: center\;">The Miami Beach Chamber and The Greater Miami Jewish Federation&#39\;s Task Force to Combat Human Trafficking Invites You to an&nbsp\;<br />\n<br />\n<span style="font-size:18px\;"><strong>Advocacy Seder</strong></span><br />\n<span style="font-size:14px\;">A Commemoration of Slavery to Freedom</span><br />\n<br />\nThursday\, April 11\, 2019<br />\n4:00 PM - 6:00 PM<br />\n<br />\nwith Special Guest<br />\n<br />\n<span style="font-size:16px\;">Katherine Fernandez Rundle&nbsp\; &nbsp\;|&nbsp\; &nbsp\;Miami-Dade State Attorney</span><br />\n<br />\n<br />\n<u><strong>Location</strong></u><br />\nGreater Miami Jewish Federation<br />\n4200 Biscayne Blvd. Miami FL 33137</div>\n&nbsp\;\n\n<div style="text-align: center\;"><br />\n&nbsp\;</div>\n
LOCATION:Greater Miami Jewish Federation 4200 Biscayne Blvd. Miami\, FL 33137
UID:e.166.41709
SEQUENCE:3
DTSTAMP:20260422T131141Z
URL:https://business.miamibeachchamber.com/events/details/advocacy-seder-41709
END:VEVENT

END:VCALENDAR
