BEGIN:VCALENDAR
VERSION:2.0
PRODID:-//ChamberMaster//Event Calendar 2.0//EN
METHOD:PUBLISH
X-PUBLISHED-TTL:P3D
REFRESH-INTERVAL:P3D
CALSCALE:GREGORIAN
BEGIN:VEVENT
DTSTART:20191018T230000Z
DTEND:20191019T120000Z
X-MICROSOFT-CDO-ALLDAYEVENT:FALSE
SUMMARY:Adults-Only Overnight: CSI Museum
DESCRIPTION:You can never be too old for sleepovers\, and Frost Science will make your childhood dream of sleeping overnight at the museum come true! On Friday\, October 18\, pack up your detective gear\, because Frost Science needs you to solve a deadly mystery at the museum. Are your skills up to par? You'll need to unravel all the clues from the scene and conduct your own experiments in the interactive CSI Lab as you learn alongside real forensic science experts from FIU's International Forensic Research Institute and the Miami-Dade Police Department! Time will be ticking though as you only have until the next morning to determine your best guess as to what happened\, before the answer is revealed over breakfast. \n\n \n\nEach Adult-Only Overnight includes exploration of exhibitions after-dark\, including the new special exhibition A Mirror Maze: Numbers in Nature\, a dance party on the interactive dance floor featuring DJ YISSEL\, a special live star show in the Frost Planetarium\, rooftop telescope viewing and stargazing (weather permitting) and more. When the party's over\, grab your sleeping bag\, travel cot or self-inflating twin mattresses and close your eyes amid one of the museum's iconic exhibitions!
X-ALT-DESC;FMTTYPE=text/html:<span style="color:#222222"><span style="font-family:avenir book"><span style="font-size:9.0pt">You can never be too old for sleepovers\, and Frost Science will make your childhood dream of sleeping overnight at the museum come true! <strong>On Friday\, October 18</strong>\, pack up your detective gear\, because Frost Science needs you to solve a deadly mystery at the museum. Are your skills up to par? You&rsquo\;ll need to unravel all the clues from the scene and conduct your own experiments in the interactive CSI Lab as you learn alongside real forensic science experts from </span></span></span><span style="color:#222222"><span style="font-family:avenir book"><span style="font-size:9.0pt"><strong>FIU&rsquo\;s International Forensic Research Institute</strong> and the <strong>Miami-Dade Police Department</strong>! Time will be ticking though as you only have until the next morning to determine your best guess as to what happened\, before the answer is revealed over breakfast. </span></span></span><br />\n&nbsp\;<br />\n<span style="color:#222222"><span style="font-family:avenir book"><span style="font-size:9.0pt">Each Adult-Only Overnight includes exploration of exhibitions after-dark\, including the new special exhibition </span></span></span><a href="http://frostscience.org/mirrormaze"><em><span style="font-family:avenir book"><span style="font-size:9.0pt">A Mirror Maze: Numbers in Nature</span></span></em></a><em><span style="color:#222222"><span style="font-family:avenir book"><span style="font-size:9.0pt">\,</span></span></span></em><span style="color:#222222"><span style="font-family:avenir book"><span style="font-size:9.0pt"> a dance party on the interactive dance floor featuring <strong>DJ YISSEL</strong>\, </span></span></span><span style="color:#222222"><span style="font-family:avenir book"><span style="font-size:9.0pt">a special live star show in the Frost Planetarium\, rooftop telescope viewing and stargazing (weather permitting) and more. When the party&rsquo\;s over\, grab your sleeping bag\, travel cot or self-inflating twin mattresses and close your eyes amid one of the museum&rsquo\;s iconic exhibitions! </span></span></span>
LOCATION:Phillip and Patricia Frost Museum of Science 1101 Biscayne Blvd\, Miami\, FL 33132
UID:e.166.44053
SEQUENCE:3
DTSTAMP:20260423T103125Z
URL:https://business.miamibeachchamber.com/events/details/adults-only-overnight-csi-museum-44053
END:VEVENT

END:VCALENDAR
