BEGIN:VCALENDAR
VERSION:2.0
PRODID:-//ChamberMaster//Event Calendar 2.0//EN
METHOD:PUBLISH
X-PUBLISHED-TTL:P3D
REFRESH-INTERVAL:P3D
CALSCALE:GREGORIAN
BEGIN:VEVENT
DTSTART:20191012T133000Z
DTEND:20200412T220000Z
X-MICROSOFT-CDO-ALLDAYEVENT:FALSE
SUMMARY:A Mirror Maze: Numbers in Nature
DESCRIPTION:Navigate through a giant mirror maze and discover A Mirror Maze: Numbers in Nature\, a new interactive special exhibition on view at Frost Science from October 12 through April 12. The exhibition exposes and explains the mathematical patterns that abound in the natural world. From the nested spirals of a sunflower's seeds\, to the ridges of a majestic mountain range\, to the layout of the Universe\, each provides a unique perspective of our daily surroundings. Various interactive elements allow for hands-on learning to understand that math is all around us in everyday life\, revealing the beauty of our world through numbers. You'll never look at the world the same way again!\n\n \n\nA Mirror Maze: Numbers in Nature was created by the Museum of Science and Industry\, Chicago (MSI).\n\n \n\nA Mirror Maze: Numbers in Nature will be on view from Saturday\, October 12\, 2019 through Sunday\, April 12\, 2020 inside the Hsiao Family Special Exhibition Gallery on the first floor of the museum.
X-ALT-DESC;FMTTYPE=text/html:<span style="color:black"><span style="font-family:avenir book"><span style="font-size:9.0pt">Navigate through a giant mirror maze and discover <strong><em>A Mirror Maze: Numbers in Nature</em></strong>\, a new interactive special exhibition on view at Frost Science from <strong>October 12 through April 12</strong>. The exhibition exposes and explains the mathematical patterns that abound in the natural world. From the nested spirals of a sunflower&rsquo\;s seeds\, to the ridges of a majestic mountain range\, to the layout of the Universe\, each provides a unique perspective of our daily surroundings. Various interactive elements allow for hands-on learning to understand that math is all around us in everyday life\, revealing the beauty of our world through numbers. You&rsquo\;ll never look at the world the same way again!</span></span></span><br />\n&nbsp\;<br />\n<em><span style="font-family:avenir book"><span style="font-size:9.0pt">A Mirror Maze: Numbers in Nature</span></span></em><span style="font-family:avenir book"><span style="font-size:9.0pt"> was created by the Museum of Science and Industry\, Chicago (MSI).</span></span><br />\n&nbsp\;<br />\n<em><span style="font-family:avenir book"><span style="font-size:9.0pt">A Mirror Maze: Numbers in Nature</span></span></em><span style="font-family:avenir book"><span style="font-size:9.0pt"> will be on view from Saturday\, October 12\, 2019 through Sunday\, April 12\, 2020 inside the Hsiao Family Special Exhibition Gallery on the first floor of the museum. </span></span>
LOCATION:Phillip and Patricia Frost Museum of Science at 1101 Biscayne Blvd\, Miami\, FL 33132
UID:e.166.44057
SEQUENCE:3
DTSTAMP:20260424T182638Z
URL:https://business.miamibeachchamber.com/events/details/a-mirror-maze-numbers-in-nature-44057
END:VEVENT

END:VCALENDAR
