BEGIN:VCALENDAR
VERSION:2.0
PRODID:-//ChamberMaster//Event Calendar 2.0//EN
METHOD:PUBLISH
X-PUBLISHED-TTL:P3D
REFRESH-INTERVAL:P3D
CALSCALE:GREGORIAN
BEGIN:VEVENT
DTSTART:20240823T150000Z
DTEND:20240823T180000Z
X-MICROSOFT-CDO-ALLDAYEVENT:FALSE
SUMMARY:4th Annual City National Bank #BWOTY Badass Women of the Year Awards
DESCRIPTION:4th Annual City National Bank #BWOTY Badass Women of The Year Awards\n\nHonoring Exceptional Women In Business\n\n\n\nThe Miami Beach Chamber of Commerce Women's Business Council is thrilled to invite you to attend the 4th Annual City National Bank BADASS WOMEN OF THE YEAR Award luncheon (#BWOTY Awards). This event recognizes and highlights business women who are not only excelling in their careers\, but breaking through glass ceilings in industries typically dominated by men. Join us for brunch to network with C-level profession-elles and hear from some exciting guest speakers.\n\n \n\nWe have accepted nominations from women excelling in the following categories: \n\n\n\nArts\, Culture\, & Media\n\n\n\nConstruction\, Real Estate\, & Development\n\n\n\nDiversity\, Equity & Inclusion \n\n\n\nFinance\n\n\n\nHealthcare\, Wellness\, & Science \n\n\n\nHospitality\n\n\n\nLaw/ Government \n\n(Non-elected positions)\n\n\n\nNon-Profit \n\n\n\nSports\n\n\n\nWomen In Business \n\n(Business Owners and/or Professionals not in the aforementioned industries)\n\n\n\nYoung Women In Excellence \n\n(Women under age 35)\n\n\n\nA $1\,000 donation to a vetted non-profit that supports women and girls\, will be made in the winner's name.\n\n\n\nJudging:\n\nThe event subcommittee voted based on the following criteria:\n\n*Place of business is located in Miami-Dade County\n\n*Accepting nominees at varying stages of their careers\n\n*Demonstrated leadership and has made an impact in her business\n\n*Shown innovation\n\n*Driving value\n\n*Community involvement\n\n\n\nPARKING\n\nWe strongly encourage you to rideshare. Parking is available at Jungle Island for $15.
X-ALT-DESC;FMTTYPE=text/html:<div style="text-align: center\;">\n<p><strong><u>4th Annual City National Bank #BWOTY Badass Women of The Year Awards</u></strong><br />\n<em>Honoring Exceptional Women In Business</em><br />\n<br />\nThe Miami Beach Chamber of Commerce Women&#39\;s Business Council is thrilled to invite you to attend the 4th Annual City National Bank BADASS WOMEN OF THE YEAR Award luncheon (#BWOTY Awards). This event recognizes and highlights business women who are not only excelling in their careers\, but breaking through glass ceilings in industries typically dominated by men. Join us for brunch to network with C-level profession-elles and hear from some exciting guest speakers.<br />\n&nbsp\;<br />\nWe have accepted nominations from women excelling in the following categories:&nbsp\;<br />\n<br />\n<strong>Arts\, Culture\, &amp\; Media</strong><br />\n<br />\n<strong>Construction\, Real Estate\, &amp\; Development</strong><br />\n<br />\n<strong>Diversity\, Equity &amp\; Inclusion </strong><br />\n<br />\n<strong>Finance</strong><br />\n<br />\n<strong>Healthcare\, Wellness\, &amp\; Science </strong><br />\n<br />\n<strong>Hospitality</strong><br />\n<br />\n<strong>Law/ Government&nbsp\;</strong><br />\n<em style="text-align: center\;">(Non-elected positions)</em><br style="text-align: center\;" />\n<br />\n<strong>Non-Profit </strong><br />\n<br />\n<strong>Sports</strong><br />\n<br />\n<strong>Women In Business&nbsp\;</strong><br />\n<em>(Business Owners and/or Professionals not in the&nbsp\;aforementioned industries)</em><br />\n<br />\n<strong>Young Women In Excellence</strong>&nbsp\;<br />\n<em>(Women under age 35)</em><br />\n<br />\n<strong>A $1\,000 donation to a vetted non-profit that supports women and girls\, will be made in the winner&#39\;s&nbsp\;name.</strong><br />\n<br />\nJudging:<br />\nThe event subcommittee voted based on the following criteria:<br />\n*Place of business is located in Miami-Dade County<br />\n*Accepting nominees at varying stages of their careers<br />\n*Demonstrated leadership and has made an impact in her business<br />\n*Shown innovation<br />\n*Driving value<br />\n*Community involvement<br />\n<br />\nPARKING<br />\nWe strongly encourage you to rideshare. Parking is available at Jungle Island for $15.</p>\n</div>\n
LOCATION:Bloom @ Jungle Island 1111 Parrot Jungle Trail Miami\, FL 33132 Parking on property $15
UID:e.166.81407
SEQUENCE:3
DTSTAMP:20260424T044318Z
URL:https://business.miamibeachchamber.com/events/details/4th-annual-city-national-bank-bwoty-badass-women-of-the-year-awards-81407
END:VEVENT

END:VCALENDAR
