BEGIN:VCALENDAR
VERSION:2.0
PRODID:-//ChamberMaster//Event Calendar 2.0//EN
METHOD:PUBLISH
X-PUBLISHED-TTL:P3D
REFRESH-INTERVAL:P3D
CALSCALE:GREGORIAN
BEGIN:VEVENT
DTSTART:20191027T150000Z
DTEND:20191027T200000Z
X-MICROSOFT-CDO-ALLDAYEVENT:FALSE
SUMMARY:3rd Annual Spooky Science Monster Mash
DESCRIPTION:Calling all gals and ghouls! Suit up in your favorite costume and visit Frost Science on Sunday\, October 27 for its 3rd Annual Spooky Science Monster Mash. Get ready for Halloween with a new potions show\, Into the Cauldron\, where chemistry helps us change the color of water\, create bubbling concoctions\, and even make water disappear before your very eyes. Then dive below the surface of our aquarium habitats to view underwater pumpkin carving before joining us for a live animal encounter with one of our owls\, all while learning about the conservation work done at Frost Science. Next\, uncover the mysteries of marvelous metals with the American Chemical Society before joining us for a delectably creepy eyeball dissection and more. Let us keep you spellbound as you discover how fun science can be!\n\n \n\nThe 3rd Annual Spooky Science Monster Mash is generously supported by UHealth Jackson Children's Care and Alpha Kids Salon & Spa.
X-ALT-DESC;FMTTYPE=text/html:<span style="font-family:avenir book"><span style="font-size:9.0pt">Calling all gals and ghouls! Suit up in your favorite costume and visit Frost Science on <strong>Sunday\, October 27</strong> for its <span style="color:#FF8C00"><strong>3<sup>rd</sup> Annual Spooky Science Monster Mash</strong></span>. Get ready for Halloween with a new potions show\, <em>Into the Cauldron</em>\, where chemistry helps us change the color of water\, create bubbling concoctions\, and even make water disappear before your very eyes. Then dive below the surface of our aquarium habitats to view underwater pumpkin carving before joining us for a live animal encounter with one of our owls\, all while learning about the conservation work done at Frost Science. Next\, uncover the mysteries of marvelous metals with the American Chemical Society before joining us for a delectably creepy eyeball dissection and more. Let us keep you spellbound as you discover how fun science can be!</span></span><br />\n&nbsp\;<br />\n<span style="font-family:avenir book"><span style="font-size:9.0pt">The 3rd Annual Spooky Science Monster Mash is generously supported by UHealth Jackson Children&rsquo\;s Care and Alpha Kids Salon &amp\; Spa.</span></span>
LOCATION:Phillip and Patricia Frost Museum of Science at 1101 Biscayne Blvd\, Miami\, FL 33132
UID:e.166.44055
SEQUENCE:3
DTSTAMP:20260423T102957Z
URL:https://business.miamibeachchamber.com/events/details/3rd-annual-spooky-science-monster-mash-44055
END:VEVENT

END:VCALENDAR
