BEGIN:VCALENDAR
VERSION:2.0
PRODID:-//ChamberMaster//Event Calendar 2.0//EN
METHOD:PUBLISH
X-PUBLISHED-TTL:P3D
REFRESH-INTERVAL:P3D
CALSCALE:GREGORIAN
BEGIN:VEVENT
DTSTART:20200214T130000Z
DTEND:20200214T150000Z
X-MICROSOFT-CDO-ALLDAYEVENT:FALSE
SUMMARY:2020 Annual Heroes Breakfast @ Loews Hotel
DESCRIPTION:The Miami Beach Chamber of Commerce Cordially Invites You to Our\n\n\n\nAnnual Heroes Breakfast\n\n\n\nPresented by\n\n\n\nCity National Bank and the Loews Miami Beach \n\n \n\nA Special Tribute to Miami Beach First Responders\n\n\n\nOur annual event honors first responders of Miami Beach\, which include the Police Department\, Fire Department and Ocean Rescue. \n\n\n\n\n\nHonorees\n\n\n\nTo be announced\n\n\n\nTickets:\n\nTwo Pillar representatives: Complimentary\n\nAdditional Pillar representatives: $40 /per person.\n\nGeneral Members: $40 /per person.\n\nPublic/Prospective Members $45 /per person.\n\n\n\nLocation\n\nLoews Miami Beach Hotel\n\n1601 Collins Avenue\, Miami Beach FL 33139\n\n\n\nDate & Time\n\nFriday\, February 14\, 2020\n\n8:00 AM - 10:00 AM\n\n\n\nParking\n\nValet is available at a discounted rate of $25.\n\n\n\nWe encourage you to rideshare! Use the Ride Freebee app for free transportation to certain locations\n\n\n\nCLICK HERE TO BE A GIFT SPONSOR
X-ALT-DESC;FMTTYPE=text/html:<div style="text-align: center\;"><span style="font-size:20px\;">The Miami Beach Chamber of Commerce&nbsp\;Cordially Invites You to Our</span><br />\n<br />\n<span style="font-size:18px\;"><strong>Annual Heroes Breakfast</strong></span><br />\n<br />\nPresented by<br />\n<br />\n<strong style="font-size: 18px\; text-align: center\;">City National Bank </strong>and&nbsp\;the<span style="font-size:18px\;"><strong> Loews Miami Beach&nbsp\;</strong></span><br />\n&nbsp\;<br />\n<em><span style="font-size:16px\;">A Special Tribute to Miami Beach First Responders</span></em><br />\n<br />\n<span style="line-height: 20.8px\; background-image: initial\; background-attachment: initial\; background-size: initial\; background-origin: initial\; background-clip: initial\; background-position: initial\; background-repeat: initial\;"><span style="font-family: arial\, sans-serif\;"><span style="font-size: 9pt\;">Our annual event honors first responders of Miami Beach\, which include the Police Department\, Fire Department and Ocean Rescue.&nbsp\;<br />\n<br />\n<br />\n<u><strong><span style="font-size:16px\;">Honorees</span></strong></u><br />\n<br />\n<span style="font-size:16px\;">To be announced<br />\n<br />\n<u><strong>Tickets:</strong></u></span></span><br />\n<span style="font-size:16px\;">Two Pillar representatives: Complimentary</span></span></span><br style="line-height: 20.8px\;" />\n<span style="line-height: 20.8px\; font-family: arial\, sans-serif\;"><span style="font-size: 10pt\;"><span style="font-size:16px\;"><span style="background-image: initial\; background-attachment: initial\; background-size: initial\; background-origin: initial\; background-clip: initial\; background-position: initial\; background-repeat: initial\;">Additional Pillar representatives: $40&nbsp\;/per person.</span><br />\n<span style="background-image: initial\; background-attachment: initial\; background-size: initial\; background-origin: initial\; background-clip: initial\; background-position: initial\; background-repeat: initial\;">General Members: $40&nbsp\;/per person.</span></span><br />\n<span style="background-image: initial\; background-attachment: initial\; background-size: initial\; background-origin: initial\; background-clip: initial\; background-position: initial\; background-repeat: initial\;"><span style="font-size:16px\;">Public/Prospective Members $45&nbsp\;/per person.</span></span></span></span><br />\n<br />\n<span style="line-height: 20.8px\; background-image: initial\; background-attachment: initial\; background-size: initial\; background-origin: initial\; background-clip: initial\; background-position: initial\; background-repeat: initial\;"><span style="font-family: arial\, sans-serif\;"><span style="font-size: 9pt\;"><span style="font-size:16px\;"><u><strong>Location</strong></u><br />\nLoews Miami Beach Hotel<br />\n1601 Collins Avenue\, Miami Beach FL 33139<br />\n<br />\n<u><strong>Date &amp\; Time</strong></u><br />\nFriday\, February 14\, 2020<br />\n8:00 AM&nbsp\;- 10:00 AM<br />\n<br />\n<u><strong>Parking</strong></u></span></span></span></span><br />\n<span style="color: rgb(68\, 68\, 68)\; font-family: Arial\, Helvetica\, sans-serif\; text-align: center\; font-size: 22px\;"><span style="border: 1pt none windowtext\; padding: 0in\; background-image: initial\; background-position: initial\; background-size: initial\; background-repeat: initial\; background-attachment: initial\; background-origin: initial\; background-clip: initial\;"><span style="font-size: 16px\;">Valet is available at a discounted rate of $25.</span></span></span><br style="color: rgb(68\, 68\, 68)\; font-family: Arial\, Helvetica\, sans-serif\; font-size: 14px\; text-align: center\;" />\n<br style="color: rgb(68\, 68\, 68)\; font-family: Arial\, Helvetica\, sans-serif\; font-size: 14px\; text-align: center\;" />\n<span style="color: rgb(68\, 68\, 68)\; font-family: Arial\, Helvetica\, sans-serif\; font-size: 14px\; text-align: center\;">We encourage you to rideshare! Use the Ride Freebee app for&nbsp\;free transportation to certain locations</span><br />\n<br />\n<span style="font-size:14.0pt\;"><a href="https://docs.google.com/forms/d/e/1FAIpQLSfilQ-gEB8tqtdQlSuRng1jR-oCtlLcle8jO18D7IrIf9m-4Q/viewform?usp=sf_link">CLICK HERE TO BE A GIFT SPONSOR</a></span><br />\n&nbsp\;</div>\n
LOCATION:Loews Miami Beach Hotel 1601 Collins avenue\, Miami Beach FL 33139
UID:e.166.47987
SEQUENCE:3
DTSTAMP:20260423T062214Z
URL:https://business.miamibeachchamber.com/events/details/2020-annual-heroes-breakfast-loews-hotel-47987
END:VEVENT

END:VCALENDAR
