BEGIN:VCALENDAR
VERSION:2.0
PRODID:-//ChamberMaster//Event Calendar 2.0//EN
METHOD:PUBLISH
X-PUBLISHED-TTL:P3D
REFRESH-INTERVAL:P3D
CALSCALE:GREGORIAN
BEGIN:VEVENT
DTSTART:20190912T150000Z
DTEND:20190912T170000Z
X-MICROSOFT-CDO-ALLDAYEVENT:FALSE
SUMMARY:2019 Annual Real Estate Luncheon
DESCRIPTION:The Miami Beach Chamber of Commerce Real Estate Council\, chaired by Mirielle Enlow\, Keller Williams\, invites you to attend its annual real estate luncheon.\n\n\n\n"Diversifying Real Estate to Diversify Our Economy"\n\npresented by    Atlantic Broadband\n\n \n\nWHAT\n\n\n\n The interactive solution-driven discussion will explore a variety of timely topics that include:\n\n\n	Strategies that will attract different types of industries to Miami Beach while building Class A office space\n	Cultivating incubators as well as co-working spaces \n	Developing different housing types to keep workforce on Miami Beach\n	Attracting younger residents and families\, while reducing traffic issues\n	Utilizing the City?s historic buildings and heritage in moving forward toward the goal of diversifying the economy\n\n\nIn general\, the conversation will include ways Miami Beach will look ahead in creating a more diverse economy. The panel will explore strategies that have been done right and opportunities to improve. Also\, how can Miami Beach achieve a live-work-play environment and learn from cities that have sustained them? \n\n \n\nWHO\n\n \n\nMODERATOR:\n\nSusan Askew | RE:MiamiBeach\n\n\n\nPANELISTS:\n\nAlicia Cervera Lamadrid | Managing Partner\, Cervera Real Estate\n\n\n\nMatis Cohen | Principal\, Kahunah Properties\n\n\n\nRory Greenberg | Real Estate Developer & Owners Rep\, R B Green Companies\n\n\n\nMichael Shvo | Chairman & CEO\, Shvo Real Estate\n\n\n\n\n\nFeaturing a presentation from CEO of the Miami Association of Realtors\n\n\n\nTeresa King Kinney\n\n\n\nReal Estate Council Luncheon Event Sub Committee:\n\n\n\nSusan Askew\, RE:MiamiBeach\n\nNick D'Anuncio\, Tara Inc\n\nMirielle Enlow\, Keller Williams Miami Beach\n\nNeil Hammack\, Dominion Builders\n\nJuan Carlos Ramirez\, NMR Design Group\n\nMadeleine Romanello\, COMPASS\n\n\n\nReal Estate Council Chair:\n\nMirielle Enlow\, Keller Williams\n\nIf you are interested in participating\, please contact the Chamber at (305) 674-1300 ext. 3190
X-ALT-DESC;FMTTYPE=text/html:<p style="color: rgb(51\, 51\, 51)\; line-height: 20.79px\;" trebuchet=""><span style="font-size:11px\;"><span style="text-align: center\;">The Miami Beach Chamber of Commerce&nbsp\;Real Estate Council\, chaired by Mirielle Enlow\, Keller Williams\,&nbsp\;invites you to attend its annual real estate luncheon.</span></span><br />\n<br />\n<span style="font-size:28px\;"><em>&quot\;Diversifying Real Estate to Diversify Our Economy&quot\;</em></span></p>\n\n<p trebuchet=""><em><span style="font-size:11px\;">presented by&nbsp\;</span> &nbsp\;&nbsp\;</em><span style="font-size:24px\;">Atlantic Broadband</span></p>\n\n<p style="text-align: center\;" trebuchet="">&nbsp\;</p>\n\n<p trebuchet=""><u><strong>WHAT</strong></u><br />\n<br />\n&nbsp\;The interactive solution-driven discussion will explore a variety of timely topics that include:</p>\n\n<ul>\n	<li style="text-align:justify\;"><span style="font-family:arial\,sans-serif\;">Strategies that will attract different types of industries to Miami Beach while building Class A office space</span></li>\n	<li style="text-align:justify\;"><span style="font-family:arial\,sans-serif\;">Cultivating incubators as well as co-working spaces </span></li>\n	<li style="text-align:justify\;"><span style="font-family:arial\,sans-serif\;">Developing different housing types to keep workforce on Miami Beach</span></li>\n	<li style="text-align:justify\;"><span style="font-family:arial\,sans-serif\;">Attracting younger residents and families\, while reducing traffic issues</span></li>\n	<li style="text-align:justify\;"><span style="font-family:arial\,sans-serif\;">Utilizing the City?s historic buildings and heritage in moving forward toward the goal of diversifying the economy</span></li>\n</ul>\n\n<p trebuchet=""><span style="font-family:arial\,sans-serif\;">In general\, the conversation will include ways Miami Beach will look ahead in creating a more diverse economy. The panel will explore strategies that have been done right and opportunities to improve. Also\, how can Miami Beach achieve a live-work-play environment and learn from cities that have sustained them? </span></p>\n\n<p style="text-align: center\;" trebuchet="">&nbsp\;</p>\n\n<p style="text-align: center\;" trebuchet=""><strong><u>WHO</u></strong><br />\n&nbsp\;</p>\n\n<p style="text-align: center\;" trebuchet=""><span style="font-size:11px\;"><u>MODERATOR:</u></span></p>\n\n<p style="text-align: center\;" trebuchet="">Susan Askew | RE:MiamiBeach</p>\n\n<p style="text-align: center\;" trebuchet=""><br />\n<span style="font-size:11px\;"><u>PANELISTS:</u></span></p>\n\n<p style="text-align: center\;" trebuchet=""><strong>Alicia Cervera Lamadrid</strong> | Managing Partner\, <em>Cervera Real Estate</em><br />\n<br />\n<strong>Matis Cohen</strong> | Principal\, <em>Kahunah Properties</em><br />\n<br />\n<strong>Rory Greenberg</strong><em> | </em>Real Estate Developer &amp\; Owners Rep\, <em>R B Green Companies</em><br />\n<br />\n<strong><span style="font-family:arial\,sans-serif\;">Michael Shvo |&nbsp\;</span></strong><span style="font-family:arial\,sans-serif\;">Chairman &amp\; CEO</span><strong><span style="font-family:arial\,sans-serif\;">\, </span></strong><em><span style="font-family: arial\, sans-serif\;">Shvo Real Estate</span></em></p>\n\n<p style="text-align: center\;"><br />\n<br />\n<span style="text-align: center\;">Featuring a presentation from CEO of the&nbsp\;</span><a href="http://www.miamirealtors.com/" style="text-align: center\;">Miami Association of Realtors</a><br style="text-align: center\;" />\n<br style="text-align: center\;" />\n<span style="font-size:14px\;"><span style="text-align: center\;"><strong>Teresa King Kinney</strong></span></span></p>\n\n<p><br />\n<span style="font-size:11px\;"><u>Real Estate Council Luncheon Event Sub Committee:</u></span><br />\n<br />\n<span style="text-align: center\;">Susan Askew\,&nbsp\;<em>RE:MiamiBeach</em><br />\nNick D&#39\;Anuncio\,</span><span style="text-align: center\;">&nbsp\;<em>Tara Inc</em><br />\nMirielle Enlow\,&nbsp\;<em>Keller Williams Miami Beach</em></span><br />\nNeil Hammack\, <em>Dominion Builders</em><br />\n<span style="text-align: center\;">Juan Carlos Ramirez\, <em>NMR Design Group</em></span><br />\nMadeleine Romanello\, <em>COMPASS</em><br />\n<br />\n<span style="font-size:11px\;"><u>Real Estate Council Chair:</u></span><br />\nMirielle Enlow\, <em>Keller Williams</em></p>\n\n<p trebuchet=""><span style="font-size:11px\;">If you are interested in participating\, please&nbsp\;contact the Chamber at (305) 674-1300 ext. 3190</span></p>\n\n<p style="text-align: center\; color: rgb(51\, 51\, 51)\; line-height: 20.79px\;" trebuchet=""><br />\n<br />\n<br />\n&nbsp\;</p>\n
LOCATION:FAENA FORUM 3300 Collins Avenue Miami Beach\, FL 33140
UID:e.166.43268
SEQUENCE:3
DTSTAMP:20260423T085100Z
URL:https://business.miamibeachchamber.com/events/details/2019-annual-real-estate-luncheon-43268
END:VEVENT

END:VCALENDAR
