BEGIN:VCALENDAR
VERSION:2.0
PRODID:-//ChamberMaster//Event Calendar 2.0//EN
METHOD:PUBLISH
X-PUBLISHED-TTL:P3D
REFRESH-INTERVAL:P3D
CALSCALE:GREGORIAN
BEGIN:VEVENT
DTSTART:20181211T230000Z
DTEND:20181212T013000Z
X-MICROSOFT-CDO-ALLDAYEVENT:FALSE
SUMMARY:2018 Pillar Holiday Party & Toy Drive -An Evening On Espanola Way
DESCRIPTION:The Miami Beach Chamber along with the Espanola Way Association invite you to celebrate the Holiday Season with\,\n\n\n\nAN EVENING ON ESPANOLA WAY\n\n\n\nAn interactive crawl around Espanola Way showcasing the newly revamped nook of delicious cuisines that are reviving the hype of the historic street.\n\n\n\nGuests will visit 3 locations and enjoy one complimentary drink and passed hors d'oeurves at their leisure. A special Holiday performance will be held at 7:00 PM near Boteco Copacabana.\n\n\n\n\n\nParticipating Venues:\n\n\n\nMercato della Pescheria\n\n412 Espanola Way\nBoteco Copacabana\n\n437 Espanola Way\nNumero 28 Pizzeria\n\n432 Espanola Way\n\n\n\n\n\n\n\nRegistration\n \n\nThe event is free and open to Pillar members of the Chamber. Registration will be visible on Espanola Way near the Clay Hotel.\n\n\n\nDate & Time\n\nTuesday\, December 11\, 2018\n\n6:00 PM - 8:30 PM\n\n\n\nParking\n\nWe encourage you to rideshare! Download the miRide app (use referral code mimbcc10) and 10% of all proceeds will benefit the Miami Beach Education Foundation. You can also use the Ride Freebee app for free transportation to certain locations.\n\n\n\n---\n\n\n\nWhere To Stay\, Dine\, & Play On Espanola Way\n\nCulinary adventure awaits on Espanola Way. Our historic South Beach street is home to more than a dozen restaurants and sidewalk cafes. Indulge in mouthwatering cocktails and savory dishes by some of South Florida's most renowned establishments\, all while dining al fresco under the Miami sky. With choices ranging from local and traditional Spanish dishes to dayboat catches\, and pairings with some of the most creative libations around\, this tropical ambiance makes for a compelling destination. In true Spanish style and South Beach tradition\, dining and drinking establishments stay open late.
X-ALT-DESC;FMTTYPE=text/html:<div style="text-align: center\;"><br />\n<span style="font-size:18px\;"><span style="font-family:arial\;">The Miami Beach Chamber along with the Espanola Way Association invite you to celebrate the Holiday Season with\,<br />\n<br />\n<strong>AN EVENING ON ESPANOLA WAY</strong></span></span><br />\n<br />\n<span style="font-family: arial\; font-size: 18px\; text-align: center\;">An interactive crawl around Espanola Way showcasing the newly revamped nook of delicious cuisines that are reviving the hype of the historic street.</span><br />\n<br />\n<span style="font-size:18px\;"><span style="font-family:arial\;">Guests will visit 3 locations and enjoy one complimentary drink and passed hors d&#39\;oeurves at their leisure. A special Holiday performance will be held at 7:00 PM near Boteco Copacabana.<br />\n<br />\n<br />\n<strong>Participating Venues:</strong></span></span><br />\n<br />\n<span style="font-size:18px\;"><strong>Mercato della Pescheria</strong></span><br />\n<span style="font-size:16px\;"><span style="font-family:arial\;">412 Espanola Way</span></span>\n<p><span style="font-size: 18px\;"><b>Boteco Copacabana</b></span><br />\n<span style="font-size:16px\;"><span style="font-family:arial\;">437&nbsp\;Espanola Way</span></span></p>\n<span style="font-size:18px\;"><strong>Numero 28 Pizzeria</strong></span><br />\n<span style="font-size:16px\;"><span style="font-family:arial\;">432 Espanola Way</span></span><br />\n<br />\n<br />\n<br />\n<u><strong><span style="font-size:20px\;">Registration</span></strong></u></div>\n&nbsp\;\n\n<div style="text-align: center\;"><span style="font-family:arial\;"><span style="font-size:16px\;">The event is free and open to Pillar members of the Chamber. Registration will be visible on Espanola Way near the Clay Hotel.</span></span><br />\n<br />\n<u><strong><span style="font-size:20px\;">Date &amp\; Time</span></strong></u><br />\n<span style="font-family:arial\;"><span style="font-size:16px\;">Tuesday\, December 11\, 2018<br />\n6:00 PM - 8:30 PM</span></span><br />\n<br />\n<span style="font-size:16px\;"><span style="font-family:arial\;"><strong><u><span style="font-size:20px\;">Parking</span></u></strong><br />\nWe encourage you to rideshare! Download the miRide app (use referral code mimbcc10) and 10% of all proceeds will benefit the Miami Beach Education Foundation. You can also use the Ride Freebee app for free transportation to certain locations.</span></span></div>\n\n<div style="text-align: center\;"><br />\n<span style="font-size:18px\;"><span style="font-family:arial\;">---<br />\n<br />\n<span style="font-size:20px\;">Where To Stay\, Dine\, &amp\; Play On Espanola Way</span></span></span>\n\n<p><span style="font-size: 15.2964px\; letter-spacing: 1.52964px\; text-align: justify\;">Culinary adventure awaits on Espanola Way. Our historic South Beach street is home to more than a dozen restaurants and sidewalk cafes. Indulge in mouthwatering cocktails and savory dishes by some of South Florida&rsquo\;s most renowned establishments\, all while dining al fresco under the Miami sky. With choices ranging from local and traditional Spanish dishes to dayboat catches\, and pairings with some of the most creative libations around\, this tropical ambiance makes for a compelling destination. In true Spanish style and South Beach tradition\, dining and drinking establishments stay open late.</span></p>\n<br />\n<br />\n<br />\n&nbsp\;</div>\n
LOCATION:MEETING LOCATION Guests will meet at the Chamber's registration table by The Clay Hotel @ 6:00 PM
UID:e.166.39048
SEQUENCE:3
DTSTAMP:20260421T224225Z
URL:https://business.miamibeachchamber.com/events/details/2018-pillar-holiday-party-toy-drive-an-evening-on-espanola-way-39048
END:VEVENT

END:VCALENDAR
