BEGIN:VCALENDAR
VERSION:2.0
PRODID:-//ChamberMaster//Event Calendar 2.0//EN
METHOD:PUBLISH
X-PUBLISHED-TTL:P3D
REFRESH-INTERVAL:P3D
CALSCALE:GREGORIAN
BEGIN:VEVENT
DTSTART:20181104T200000Z
DTEND:20181107T180000Z
X-MICROSOFT-CDO-ALLDAYEVENT:FALSE
SUMMARY:18th Annual Emergency Radiology Symposium: What You Need to Know to Get You Through the Night
DESCRIPTION:This symposium is designed to help radiologists and emergency radiologists maintain optimal competence in the utilization of the most reliable imaging modalities and best-practice strategies\, even for unusual conditions. One-third of the lectures will be dedicated to plain films and the remainder will stress state-of-the-art emergency imaging of the central nervous system\, chest\, abdomen and coronary and musculoskeletal systems. This course will be of special interest to physicians in the fields of radiology\, emergency radiology and emergency medicine.
X-ALT-DESC;FMTTYPE=text/html:<span style="font-family:arial\,sans-serif"><span style="font-size:medium">This symposium</span></span><span style="font-family:arial\,sans-serif"><span style="font-size:medium"> is designed to help radiologists and emergency radiologists maintain optimal competence in the utilization of the most reliable imaging modalities and best-practice strategies\, even for unusual conditions. One-third of the lectures will be dedicated to plain films and the remainder will stress state-of-the-art emergency imaging of the central nervous system\, chest\, abdomen and coronary and musculoskeletal systems. </span><span style="font-size:medium">This course will be of special interest to physicians in the fields of radiology\, emergency radiology and emergency medicine.</span></span><br />\n&nbsp\;
LOCATION:Fontainebleau Hotel 4441 Collins Avenue Miami Beach\, Florida
UID:e.166.38230
SEQUENCE:3
DTSTAMP:20260422T002001Z
URL:https://business.miamibeachchamber.com/events/details/18th-annual-emergency-radiology-symposium-what-you-need-to-know-to-get-you-through-the-night-38230
END:VEVENT

END:VCALENDAR
