BEGIN:VCALENDAR
VERSION:2.0
PRODID:-//ChamberMaster//Event Calendar 2.0//EN
METHOD:PUBLISH
X-PUBLISHED-TTL:P3D
REFRESH-INTERVAL:P3D
CALSCALE:GREGORIAN
BEGIN:VEVENT
DTSTART:20200206T233000Z
DTEND:20200207T023000Z
X-MICROSOFT-CDO-ALLDAYEVENT:FALSE
SUMMARY:15th Annual Taste of the Garden
DESCRIPTION:Savor\, Sip and Support the Garden! This heralded gastronomic experience offers you the opportunity to indulge in a sampling of dishes from some Miami's best chefs and restaurants. Stroll through Miami Beach's tropical oasis sipping cocktails\, wines and brews. Bid on silent auction items and Round out the evening with live music and DJ\, all staged under the big tent.
X-ALT-DESC;FMTTYPE=text/html:<span style="color:#000000"><span style="font-family:neue plak\,-apple-system\,blinkmacsystemfont\,roboto\,helvetica neue\,helvetica\,tahoma\,arial\,sans-serif\; font-size:16px">Savor\, Sip and Support the Garden! This heralded gastronomic experience offers you the opportunity to indulge in a sampling of dishes from some Miami&#39\;s best chefs and restaurants. Stroll through Miami Beach&rsquo\;s tropical oasis sipping cocktails\, wines and brews. Bid on silent auction items and Round out the evening with live music and DJ\, all staged under the big tent.</span></span>
LOCATION:Miami Beach Botanical Garden 2000 Convention Center Dr. Miami Beach\, FL 33139 305.673.7256
UID:e.166.43858
SEQUENCE:3
DTSTAMP:20260420T041619Z
URL:https://business.miamibeachchamber.com/events/details/15th-annual-taste-of-the-garden-43858
END:VEVENT

END:VCALENDAR
