BEGIN:VCALENDAR
VERSION:2.0
PRODID:-//ChamberMaster//Event Calendar 2.0//EN
METHOD:PUBLISH
X-PUBLISHED-TTL:P3D
REFRESH-INTERVAL:P3D
CALSCALE:GREGORIAN
BEGIN:VEVENT
DTSTART:20200918T160000Z
DTEND:20200918T170000Z
X-MICROSOFT-CDO-ALLDAYEVENT:FALSE
SUMMARY:12PM Investing in Innovation with Edward Jones
DESCRIPTION:Investing in Innovation \n\nfeaturing\n\nGerardo Porraz | Financial Advisor\, Edward Jones\n\n\n\n-Five Platforms for long-term growth \n\n-Creating value through Innovation\n\n-The greatest Innovations of our time\n\n-Where are the opportunities to invest today\n\n-Strategies in technological advances\n\n\n\nRegistration Link:\n\nhttps://edwardjones.zoom.us/webinar/register/5715989760356/WN_ucnfR9PaRwu68I7xXoOeBg
X-ALT-DESC;FMTTYPE=text/html:<div style="text-align: center\;"><span style="font-size:20px\;"><strong>Investing in Innovation&nbsp\;<br />\n<span style="font-size:12px\;">featuring<br />\n<span style="font-size:16px\;">Gerardo Porraz&nbsp\;</span></span></strong></span><span style="font-size: 16px\;">| <em>Financial Advisor\,</em> Edward Jones</span><br />\n<br />\n-Five Platforms for long-term growth&nbsp\;<br />\n-Creating value through Innovation<br />\n-The greatest Innovations of our time<br />\n-Where are the opportunities to invest today<br />\n-Strategies in technological advances<br />\n<br />\n<strong>Registration Link:</strong><br />\n<a href="https://edwardjones.zoom.us/webinar/register/5715989760356/WN_ucnfR9PaRwu68I7xXoOeBg">https://edwardjones.zoom.us/webinar/register/5715989760356/WN_ucnfR9PaRwu68I7xXoOeBg</a></div>\n
LOCATION:Registration Link: https://edwardjones.zoom.us/webinar/register/5715989760356/WN_ucnfR9PaRwu68I7xXoOeBg
UID:e.166.53518
SEQUENCE:3
DTSTAMP:20260423T170832Z
URL:https://business.miamibeachchamber.com/events/details/12pm-investing-in-innovation-with-edward-jones-53518
END:VEVENT

END:VCALENDAR
