BEGIN:VCALENDAR
VERSION:2.0
PRODID:-//ChamberMaster//Event Calendar 2.0//EN
METHOD:PUBLISH
X-PUBLISHED-TTL:P3D
REFRESH-INTERVAL:P3D
CALSCALE:GREGORIAN
BEGIN:VEVENT
DTSTART:20181115T230000Z
DTEND:20181116T013000Z
X-MICROSOFT-CDO-ALLDAYEVENT:FALSE
SUMMARY:1 YEAR ANNIVERSARY CELEBRATION
DESCRIPTION:FASHION TALKS MIAMI\n\n\n\n \n  \n\nFashion TALKS Miami is a monthly networking event for Fashion Industry Professionals\, Students\, Educators\, Fashion Designers\, Retailers\, Graphic Designers\, Fashion & Lifestyle bloggers and Creative Business owner in South Florida.
X-ALT-DESC;FMTTYPE=text/html:FASHION TALKS MIAMI<br />\n<br />\n&nbsp\;\n<p>&nbsp\;&nbsp\;</p>\n\n<p>Fashion TALKS Miami is a monthly networking event for Fashion Industry Professionals\, Students\, Educators\, Fashion Designers\, Retailers\, Graphic Designers\, Fashion &amp\; Lifestyle bloggers and Creative Business owner in South Florida.</p>\n
LOCATION:WE WORK MIAMI 117 NE 1st Ave\, Miami\, FL
UID:e.166.39362
SEQUENCE:3
DTSTAMP:20260422T001355Z
URL:https://business.miamibeachchamber.com/events/details/1-year-anniversary-celebration-39362
END:VEVENT

END:VCALENDAR
